BEGIN:VCALENDAR
VERSION:2.0
PRODID:-//ChamberMaster//Event Calendar 2.0//EN
METHOD:PUBLISH
X-PUBLISHED-TTL:P3D
REFRESH-INTERVAL:P3D
CALSCALE:GREGORIAN
BEGIN:VEVENT
DTSTART:20260908T220000Z
DTEND:20260909T010000Z
X-MICROSOFT-CDO-ALLDAYEVENT:FALSE
SUMMARY:Weekly Trivia at Lucky Goat Coffee
DESCRIPTION:Test your knowledge at Trivia Night at Lucky Goat Coffee Co.! Every Tuesday\, gather your friends\, sip on your favorite drinks\, and take on fun trivia questions in a cozy\, laid-back coffeehouse setting.\n\n\n\nBring your team and compete for bragging rights (and maybe some prizes) while enjoying the best local coffee in Dunwoody!
X-ALT-DESC;FMTTYPE=text/html:<span style="font-size:16px\;">Test your knowledge at Trivia Night at Lucky Goat Coffee Co.! Every Tuesday\, gather your friends\, sip on your favorite drinks\, and take on fun trivia questions in a cozy\, laid-back coffeehouse setting.<br />\n<br />\nBring your team and compete for bragging rights (and maybe some prizes) while enjoying the best local coffee in Dunwoody!</span><br />\n<br />\n<br />\n&nbsp\;
LOCATION:Lucky Goat Coffee- Dunwoody Park 4343 Dunwoody Park Plaza\,Suite 300 Dunwoody\, GA 30338
UID:e.569.16243
SEQUENCE:3
DTSTAMP:20260419T132837Z
URL:https://business.greaterperimeterchamber.com/events/details/weekly-trivia-at-lucky-goat-coffee-09-08-2026-16243
END:VEVENT

END:VCALENDAR
