BEGIN:VCALENDAR
VERSION:2.0
PRODID:-//ChamberMaster//Event Calendar 2.0//EN
METHOD:PUBLISH
X-PUBLISHED-TTL:P3D
REFRESH-INTERVAL:P3D
CALSCALE:GREGORIAN
BEGIN:VEVENT
DTSTART:20240808T213000Z
DTEND:20240808T230000Z
X-MICROSOFT-CDO-ALLDAYEVENT:FALSE
SUMMARY:Vibe After Five
DESCRIPTION:VIBE After FIVE at Dunwoody Nature Center\n\n\n\n\n\nVIBE after FIVE: Elevate connections at Perimeter Chamber's premier after-hours networking. Unwind\, network\, and foster meaningful business relationships.\n\n\n\nVIBE After FIVE at Dunwoody Nature Center | Dunwoody Perimeter Chamber on Glue Up
X-ALT-DESC;FMTTYPE=text/html:<div class="row" style="box-sizing: border-box\; margin-right: -15px\; margin-left: -15px\; color: rgb(77\, 77\, 77)\; font-family: Montserrat\; font-size: 16px\;">\n<div class="col-xs-12" style="box-sizing: border-box\; position: relative\; min-height: 1px\; padding-right: 15px\; padding-left: 15px\; float: left\; width: 626.2px\;"><a class="link-to-eb event-listing-title" href="https://perimeterchamber.glueup.com/event/98790" style="box-sizing: border-box\; background-color: transparent\; color: rgb(33\, 33\, 33)\; outline: 0px\; font-size: 1rem\; margin-bottom: 6px\; display: block\; line-height: normal\;" target="_blank">VIBE After FIVE at Dunwoody Nature Center</a></div>\n</div>\n\n<div class="row" style="box-sizing: border-box\; margin-right: -15px\; margin-left: -15px\; color: rgb(77\, 77\, 77)\; font-family: Montserrat\; font-size: 16px\;">\n<div class="col-xs-12" style="box-sizing: border-box\; position: relative\; min-height: 1px\; padding-right: 15px\; padding-left: 15px\; float: left\; width: 626.2px\;">\n<div class="event-description" style="box-sizing: border-box\;">\n<p style="box-sizing: border-box\; margin: 0px\; line-height: 1.4\;">VIBE after FIVE: Elevate connections at Perimeter Chamber&#39\;s premier after-hours networking. Unwind\, network\, and foster meaningful business relationships.<br />\n<br />\n<a href="https://perimeterchamber.glueup.com/event/vibe-after-five-at-dunwoody-nature-center-98790/">VIBE After FIVE at Dunwoody Nature Center | Dunwoody Perimeter Chamber on Glue Up</a></p>\n</div>\n</div>\n</div>\n
LOCATION:Dunwoody Nature Center
UID:e.569.12467
SEQUENCE:3
DTSTAMP:20260421T085345Z
URL:https://business.greaterperimeterchamber.com/events/details/vibe-after-five-12467
END:VEVENT

END:VCALENDAR
