BEGIN:VCALENDAR
VERSION:2.0
PRODID:-//ChamberMaster//Event Calendar 2.0//EN
METHOD:PUBLISH
X-PUBLISHED-TTL:P3D
REFRESH-INTERVAL:P3D
CALSCALE:GREGORIAN
BEGIN:VEVENT
DTSTART:20260916T150000Z
DTEND:20260917T020000Z
X-MICROSOFT-CDO-ALLDAYEVENT:FALSE
SUMMARY:*SPECIALS* - Woof Wednesdays
DESCRIPTION:Bring in your pup for $2 off pints all day long!
X-ALT-DESC;FMTTYPE=text/html:<span style="font-family: anton\; font-size: 14px\;">Bring in your pup for $2 off pints all day long!</span>
LOCATION:Mutation Brewing 5825 Roswell Rd NE\, Sandy Springs\, GA 30328
UID:e.569.14943
SEQUENCE:3
DTSTAMP:20260419T132955Z
URL:https://business.greaterperimeterchamber.com/events/details/specials-woof-wednesdays-09-16-2026-14943
END:VEVENT

END:VCALENDAR
