BEGIN:VCALENDAR
VERSION:2.0
PRODID:-//ChamberMaster//Event Calendar 2.0//EN
METHOD:PUBLISH
X-PUBLISHED-TTL:P3D
REFRESH-INTERVAL:P3D
CALSCALE:GREGORIAN
BEGIN:VEVENT
DTSTART:20240416T153000Z
DTEND:20240416T170000Z
X-MICROSOFT-CDO-ALLDAYEVENT:FALSE
SUMMARY:Signature Luncheon
DESCRIPTION:You will hear from Martha Issa\, Senior Director of Sustainability\, Veritiv\, the largest packaging distributor in the US headquartered in Sandy Springs\, about:\n\n\n	Introduction to basic Sustainability terminology used in a corporate environment.\n	Currents and future challenges that companies are facing regarding sustainability.\n	Defining sustainability from your customers' voice and perspective.\n	Practical tips to kickstart or boost sustainability for long term value.\n\n\n Martha serves as the Sr. Director of Sustainability at Veritiv where she applies her engineering and marketing background in the B2B and consumer product goods (CPG) industry. Prior to this role\, Martha served in senior-level roles in Veritiv-Cleaning & Protection\, Facility Solutions\, Unisource Worldwide Inc.\, Accenture LLC\, Latin American Association (LAA)\, Unilever-BestFoods\, Unilever-Home & Personal Care\, Unilever-Central America.\n\nBi-lingual in English and Spanish\, she holds a B.S. in Chemical Engineering from the Universidad Centroamericana in El Salvador and is a graduate of Instituto Superior De Economia Administration De Empresas where she secured a Master in Business Administration (MBA).
X-ALT-DESC;FMTTYPE=text/html:<p style="color: rgb(0\, 0\, 0)\; font-family: &quot\;Times New Roman&quot\;\; font-size: medium\;"><span style="font-size: 14px\;"><span style="font-family: arial\;">You will hear from Martha Issa\, Senior Director of Sustainability\, Veritiv\, the largest packaging distributor in the US headquartered in Sandy Springs\, about:</span></span></p>\n\n<ul>\n	<li style="color: rgb(0\, 0\, 0)\; font-family: &quot\;Times New Roman&quot\;\; font-size: medium\;"><span style="font-size: 14px\;"><span style="font-family: arial\;">Introduction to basic Sustainability terminology used in a corporate environment.</span></span></li>\n	<li style="color: rgb(0\, 0\, 0)\; font-family: &quot\;Times New Roman&quot\;\; font-size: medium\;"><span style="font-size: 14px\;"><span style="font-family: arial\;">Currents and future challenges that companies are facing regarding sustainability.</span></span></li>\n	<li style="color: rgb(0\, 0\, 0)\; font-family: &quot\;Times New Roman&quot\;\; font-size: medium\;"><span style="font-size: 14px\;"><span style="font-family: arial\;">Defining sustainability from your customers&#39\; voice and perspective.</span></span></li>\n	<li style="color: rgb(0\, 0\, 0)\; font-family: &quot\;Times New Roman&quot\;\; font-size: medium\;"><span style="font-size: 14px\;"><span style="font-family: arial\;">Practical tips to kickstart or boost sustainability for long term value.</span></span></li>\n</ul>\n\n<div style="color: rgb(0\, 0\, 0)\; font-family: &quot\;Times New Roman&quot\;\; font-size: medium\;"><span style="font-size: 14px\;"><span style="font-family: arial\;">&#8203\;Martha serves as the Sr. Director of Sustainability at Veritiv where she applies her engineering and marketing background in the B2B and consumer product goods (CPG) industry. Prior to this role\, Martha served in senior-level roles in Veritiv-Cleaning &amp\; Protection\, Facility Solutions\, Unisource Worldwide Inc.\, Accenture LLC\, Latin American Association (LAA)\, Unilever-BestFoods\, Unilever-Home &amp\; Personal Care\, Unilever-Central America.</span></span></div>\n\n<p style="color: rgb(0\, 0\, 0)\; font-family: &quot\;Times New Roman&quot\;\; font-size: medium\;"><span style="font-size: 14px\;"><span style="font-family: arial\;">Bi-lingual in English and Spanish\, she holds a B.S. in Chemical Engineering from the Universidad Centroamericana in El Salvador and is a graduate of Instituto Superior De Economia Administration De Empresas where she secured a Master in Business Administration (MBA).</span></span></p>\n
LOCATION:City of Sandy Springs 1 Galambos Way Sandy Springs\, GA. 30328
UID:e.569.12394
SEQUENCE:3
DTSTAMP:20260419T143717Z
URL:https://business.greaterperimeterchamber.com/events/details/signature-luncheon-12394
END:VEVENT

END:VCALENDAR
