BEGIN:VCALENDAR
VERSION:2.0
PRODID:-//ChamberMaster//Event Calendar 2.0//EN
METHOD:PUBLISH
X-PUBLISHED-TTL:P3D
REFRESH-INTERVAL:P3D
CALSCALE:GREGORIAN
BEGIN:VEVENT
DTSTART:20260617T123000Z
DTEND:20260617T133000Z
X-MICROSOFT-CDO-ALLDAYEVENT:FALSE
SUMMARY:Signature Breakfast | Business for a Better Outdoors: Innovation\, Sustainability & the Cox Vision
DESCRIPTION:Join the Greater Perimeter Chamber for a special morning conversation with Will Thorburn\, President of Cox Outdoors\, exploring how one of the region's most recognized companies is advancing a bold vision that connects business innovation with environmental stewardship.\n\nCox Outdoors represents an exciting evolution within the Cox family of companies bringing together a portfolio of outdoor-focused brands and conservation-minded businesses under a unified strategy grounded in sustainability\, responsible land use\, and long-term environmental impact.\n\nIn this keynote discussion\, Thorburn will share the story behind the creation of Cox Outdoors\, how these seemingly distinct businesses connect through a shared mission\, and what it signals for the future of innovation in the outdoor and conservation economy. Attendees will gain insight into how companies can pursue growth while honoring commitments to sustainability\, community\, and responsible leadership.\n\nThe conversation will offer inspiration for business leaders navigating change\, building purpose-driven organizations\, and finding opportunity at the intersection of innovation and environmental responsibility.\n\n \nEvent Reminders\n\n\n\nPre-Registration\n\nPlease register in advance. Walk-ins cannot be accommodated. All registrations are final and non-refundable.\n\n\n\nPhoto/Video Release\n\nBy attending\, you grant permission for photos and videos taken at the event to be used in future Greater Perimeter Chamber marketing and promotional materials.\n\n\n\nSpeaker Disclaimer\n\nThe views and opinions expressed by event speakers are their own and do not necessarily reflect those of the Greater Perimeter Chamber.\n\n\n\nCommunication Consent\n\nBy providing your email\, you consent to receive occasional updates and invitations from the Chamber. You may unsubscribe at any time.\n\n\n\nStart your morning with coffee\, connection\, and a forward-looking conversation on how companies are shaping the future of business and conservation.
X-ALT-DESC;FMTTYPE=text/html:<div class="x_elementToProof" style="border: 0px\; font-variant-numeric: inherit\; font-variant-east-asian: inherit\; font-variant-alternates: inherit\; font-variant-position: inherit\; font-variant-emoji: inherit\; font-stretch: inherit\; font-size: 12pt\; line-height: inherit\; font-family: Aptos\, sans-serif\; font-optical-sizing: inherit\; font-size-adjust: inherit\; font-kerning: inherit\; font-feature-settings: inherit\; font-variation-settings: inherit\; font-language-override: inherit\; margin: 1em 0px\; padding: 0px\; vertical-align: baseline\; color: rgb(0\, 0\, 0) !important\;">\n<div data-olk-copy-source="MailCompose" style="margin-top: 1em\; margin-bottom: 1em\; font-family: Aptos\, Aptos_EmbeddedFont\, Aptos_MSFontService\, Calibri\, Helvetica\, sans-serif\; font-size: 12pt\; color: rgb(0\, 0\, 0)\;"><span style="color:#696969\;"><span style="font-family:tahoma\;">Join the Greater Perimeter Chamber for a special morning conversation with <strong>Will Thorburn\, President of Cox Outdoors</strong>\, exploring how one of the region&rsquo\;s most recognized companies is advancing a bold vision that connects business innovation with environmental stewardship.</span></span></div>\n\n<div style="margin-top: 1em\; margin-bottom: 1em\; font-family: Aptos\, Aptos_EmbeddedFont\, Aptos_MSFontService\, Calibri\, Helvetica\, sans-serif\; font-size: 12pt\; color: rgb(0\, 0\, 0)\;"><span style="color:#696969\;"><span style="font-family:tahoma\;">Cox Outdoors represents an exciting evolution within the Cox family of companies&mdash\;bringing together a portfolio of outdoor-focused brands and conservation-minded businesses under a unified strategy grounded in sustainability\, responsible land use\, and long-term environmental impact.</span></span></div>\n\n<div style="margin-top: 1em\; margin-bottom: 1em\; font-family: Aptos\, Aptos_EmbeddedFont\, Aptos_MSFontService\, Calibri\, Helvetica\, sans-serif\; font-size: 12pt\; color: rgb(0\, 0\, 0)\;"><span style="color:#696969\;"><span style="font-family:tahoma\;">In this keynote discussion\, Thorburn will share the story behind the creation of Cox Outdoors\, how these seemingly distinct businesses connect through a shared mission\, and what it signals for the future of innovation in the outdoor and conservation economy. Attendees will gain insight into how companies can pursue growth while honoring commitments to sustainability\, community\, and responsible leadership.</span></span></div>\n\n<div style="margin-top: 1em\; margin-bottom: 1em\; font-family: Aptos\, Aptos_EmbeddedFont\, Aptos_MSFontService\, Calibri\, Helvetica\, sans-serif\; font-size: 12pt\; color: rgb(0\, 0\, 0)\;"><span style="color:#696969\;"><span style="font-family:tahoma\;">The conversation will offer inspiration for business leaders navigating change\, building purpose-driven organizations\, and finding opportunity at the intersection of innovation and environmental responsibility.</span></span></div>\n\n<div style="margin-top: 1em\; margin-bottom: 1em\; font-family: Aptos\, Aptos_EmbeddedFont\, Aptos_MSFontService\, Calibri\, Helvetica\, sans-serif\; font-size: 12pt\; color: rgb(0\, 0\, 0)\;">&nbsp\;</div>\n<span style="font-size:16px\;"><span style="font-family: verdana\;"><strong>Event Reminders</strong><br />\n<br />\n<strong>Pre-Registration</strong><br />\nPlease register in advance. Walk-ins cannot be accommodated. All registrations are final and non-refundable.<br />\n<br />\n<strong>Photo/Video Release</strong><br />\nBy attending\, you grant permission for photos and videos taken at the event to be used in future Greater Perimeter Chamber marketing and promotional materials.<br />\n<br />\n<strong>Speaker Disclaimer</strong><br />\nThe views and opinions expressed by event speakers are their own and do not necessarily reflect those of the Greater Perimeter Chamber.<br />\n<br />\n<strong>Communication Consent</strong><br />\nBy providing your email\, you consent to receive occasional updates and invitations from the Chamber. You may unsubscribe at any time.</span></span><br />\n<br />\n<em><span style="color: rgb(105\, 105\, 105)\; font-family: tahoma\; font-size: 16px\;">Start your morning with coffee\, connection\, and a forward-looking conversation on how companies are shaping the future of business and conservation.</span></em></div>\n
LOCATION:City Springs 1 Galambos Way Sandy Springs\, GA 30328
UID:e.569.17821
SEQUENCE:3
DTSTAMP:20260422T204444Z
URL:https://business.greaterperimeterchamber.com/events/details/signature-breakfast-business-for-a-better-outdoors-innovation-sustainability-the-cox-vision-17821
END:VEVENT

END:VCALENDAR
