BEGIN:VCALENDAR
VERSION:2.0
PRODID:-//ChamberMaster//Event Calendar 2.0//EN
METHOD:PUBLISH
X-PUBLISHED-TTL:P3D
REFRESH-INTERVAL:P3D
CALSCALE:GREGORIAN
BEGIN:VEVENT
DTSTART:20240313T150000Z
DTEND:20240313T180000Z
X-MICROSOFT-CDO-ALLDAYEVENT:FALSE
SUMMARY:Sandy Springs Connects! Career Expo
DESCRIPTION:Sandy Springs Connects! is a career expo that brings together local jobseekers and the thriving business community that resides in Sandy Springs. From Fortune 500 companies to small businesses\, healthcare to retail\, there's a wide variety of quality companies in varying industries right in our backyard.
X-ALT-DESC;FMTTYPE=text/html:Sandy Springs Connects! is a career expo that brings together local jobseekers and the thriving business community that resides in Sandy Springs. From Fortune 500 companies to small businesses\, healthcare to retail\, there&rsquo\;s a wide variety of quality companies in varying industries right in our backyard.
LOCATION:City Springs 1 Galambos Way Sandy Springs\, GA. 30342
UID:e.569.12425
SEQUENCE:3
DTSTAMP:20260419T181016Z
URL:https://business.greaterperimeterchamber.com/events/details/sandy-springs-connects-career-expo-12425
END:VEVENT

END:VCALENDAR
