BEGIN:VCALENDAR
VERSION:2.0
PRODID:-//ChamberMaster//Event Calendar 2.0//EN
METHOD:PUBLISH
X-PUBLISHED-TTL:P3D
REFRESH-INTERVAL:P3D
CALSCALE:GREGORIAN
BEGIN:VEVENT
DTSTART:20240611T213000Z
DTEND:20240612T010000Z
X-MICROSOFT-CDO-ALLDAYEVENT:FALSE
SUMMARY:Rockin' The Runway
DESCRIPTION:Join us as we celebrate the 12th Annual Rockin' the Runway!\n\n \n\nA fashion show to benefit The Drake House.\n\n \n\nAll proceeds support The Drake House\, a local nonprofit that empowers women and their children experiencing homelessness to achieve economic independence and long-term stability. \n\n \n\nIncluded in the cost of each ticket is a wide assortment of small bites provided by Sandy Springs' best restaurants as well as one drink ticket.\n\n \n\n \n\nBuy Tickets: Rockin' the Runway Fashion Show Fundraiser | City Springs
X-ALT-DESC;FMTTYPE=text/html:<p align="center" style="margin: 0px\; padding: 0px\; color: rgb(64\, 63\, 66)\; font-family: Arial\, Verdana\, Helvetica\, sans-serif\; font-size: 14px\; text-align: center\;"><span style="border: 0px\; font-style: inherit\; font-variant: inherit\; font-weight: inherit\; font-stretch: inherit\; font-size: 16px\; line-height: inherit\; font-family: &quot\;Open Sans&quot\;\, sans-serif\; font-optical-sizing: inherit\; font-kerning: inherit\; font-feature-settings: inherit\; font-variation-settings: inherit\; margin: 0px\; padding: 0px\; vertical-align: baseline\; color: rgb(0\, 0\, 0)\;">Join us as we celebrate the 12th&nbsp\;</span><span style="border: 0px\; font-style: inherit\; font-variant: inherit\; font-stretch: inherit\; font-size: 16px\; line-height: inherit\; font-family: &quot\;Open Sans&quot\;\, sans-serif\; font-optical-sizing: inherit\; font-kerning: inherit\; font-feature-settings: inherit\; font-variation-settings: inherit\; margin: 0px\; padding: 0px\; vertical-align: baseline\; color: rgb(0\, 0\, 0)\;">Annual</span><span style="border: 0px\; font-style: inherit\; font-variant: inherit\; font-weight: bold\; font-stretch: inherit\; font-size: 16px\; line-height: inherit\; font-family: &quot\;Open Sans&quot\;\, sans-serif\; font-optical-sizing: inherit\; font-kerning: inherit\; font-feature-settings: inherit\; font-variation-settings: inherit\; margin: 0px\; padding: 0px\; vertical-align: baseline\; color: rgb(0\, 0\, 0)\;">&nbsp\;Rockin&#39\; the Runway!</span></p>\n\n<p align="center" style="margin: 0px\; padding: 0px\; color: rgb(64\, 63\, 66)\; font-family: Arial\, Verdana\, Helvetica\, sans-serif\; font-size: 14px\; text-align: center\;">&nbsp\;</p>\n\n<p align="center" style="margin: 0px\; padding: 0px\; color: rgb(64\, 63\, 66)\; font-family: Arial\, Verdana\, Helvetica\, sans-serif\; font-size: 14px\; text-align: center\;"><span style="border: 0px\; font-style: inherit\; font-variant: inherit\; font-weight: inherit\; font-stretch: inherit\; font-size: 16px\; line-height: inherit\; font-family: &quot\;Open Sans&quot\;\, sans-serif\; font-optical-sizing: inherit\; font-kerning: inherit\; font-feature-settings: inherit\; font-variation-settings: inherit\; margin: 0px\; padding: 0px\; vertical-align: baseline\; color: rgb(0\, 0\, 0)\;">A fashion show to benefit&nbsp\;</span><a data-auth="NotApplicable" data-linkindex="0" href="https://bmxlwabab.cc.rs6.net/tn.jsp?f=001Owx9CsaL7oxRrDUtni63wF667H4yEUe1iPvyvGG1lvuzVQAXqEXDW-1_YCZxL4MyX2xCIP4Q2xt5fB1MxH5hnvQboCA7WgsTnJKkgrB0Fl1fkAkFME5Y3eKC9BeSx_GPY8guP-C64AXqH-ETitm854M46cxfUDm6&amp\;c=58S5P9bI3KalTVxewyl-rjgTeZaeiO72WyI_mjSy9FFk0nhGYTWVBg==&amp\;ch=cWi96Ui5m9iwGcKa-QtbSmxdz6BFGPeIB_8OPqvsnK4BWVPXHPOCpw==" rel="noopener noreferrer" style="border: 0px\; font-variant: inherit\; font-weight: bold\; font-stretch: inherit\; font-size: 16px\; line-height: inherit\; font-family: &quot\;Open Sans&quot\;\, sans-serif\; font-optical-sizing: inherit\; font-kerning: inherit\; font-feature-settings: inherit\; font-variation-settings: inherit\; margin: 0px\; padding: 0px\; vertical-align: baseline\; color: rgb(0\, 0\, 0)\;" target="_blank">The Drake House.</a></p>\n\n<p align="center" style="margin: 0px\; padding: 0px\; color: rgb(64\, 63\, 66)\; font-family: Arial\, Verdana\, Helvetica\, sans-serif\; font-size: 14px\; text-align: center\;">&nbsp\;</p>\n\n<p align="center" style="margin: 0px\; padding: 0px\; color: rgb(64\, 63\, 66)\; font-family: Arial\, Verdana\, Helvetica\, sans-serif\; font-size: 14px\; text-align: center\;"><span style="border: 0px\; font-style: inherit\; font-variant: inherit\; font-weight: inherit\; font-stretch: inherit\; font-size: 16px\; line-height: inherit\; font-family: &quot\;Open Sans&quot\;\, sans-serif\; font-optical-sizing: inherit\; font-kerning: inherit\; font-feature-settings: inherit\; font-variation-settings: inherit\; margin: 0px\; padding: 0px\; vertical-align: baseline\; color: rgb(0\, 0\, 0)\;">All proceeds support The Drake House\, a local nonprofit that empowers women and their children experiencing homelessness to achieve economic independence and long-term stability.&nbsp\;</span></p>\n\n<p align="center" style="margin: 0px\; padding: 0px\; color: rgb(64\, 63\, 66)\; font-family: Arial\, Verdana\, Helvetica\, sans-serif\; font-size: 14px\; text-align: center\;">&nbsp\;</p>\n\n<p align="center" style="margin: 0px\; padding: 0px\; color: rgb(64\, 63\, 66)\; font-family: Arial\, Verdana\, Helvetica\, sans-serif\; font-size: 14px\; text-align: center\;"><span style="border: 0px\; font-style: inherit\; font-variant: inherit\; font-weight: inherit\; font-stretch: inherit\; font-size: 16px\; line-height: inherit\; font-family: &quot\;Open Sans&quot\;\, sans-serif\; font-optical-sizing: inherit\; font-kerning: inherit\; font-feature-settings: inherit\; font-variation-settings: inherit\; margin: 0px\; padding: 0px\; vertical-align: baseline\; color: rgb(0\, 0\, 0)\;">Included in the cost of each ticket is a wide assortment of small bites provided by Sandy Springs&#39\; best restaurants as well as one drink ticket.</span></p>\n\n<p style="margin: 0px\; padding: 0px\; color: rgb(64\, 63\, 66)\; font-family: Arial\, Verdana\, Helvetica\, sans-serif\; font-size: 14px\;">&nbsp\;</p>\n\n<p align="center" style="margin: 0px\; padding: 0px\; color: rgb(64\, 63\, 66)\; font-family: Arial\, Verdana\, Helvetica\, sans-serif\; font-size: 14px\; text-align: center\;">&nbsp\;</p>\n\n<p align="center" style="margin: 0px\; padding: 0px\; color: rgb(64\, 63\, 66)\; font-family: Arial\, Verdana\, Helvetica\, sans-serif\; font-size: 14px\; text-align: center\;"><span style="border: 0px\; font-style: inherit\; font-variant: inherit\; font-weight: inherit\; font-stretch: inherit\; font-size: 16px\; line-height: inherit\; font-family: &quot\;Open Sans&quot\;\, sans-serif\; font-optical-sizing: inherit\; font-kerning: inherit\; font-feature-settings: inherit\; font-variation-settings: inherit\; margin: 0px\; padding: 0px\; vertical-align: baseline\; color: rgb(0\, 0\, 0)\;">Buy Tickets</span><span style="border: 0px\; font-style: inherit\; font-variant: inherit\; font-weight: inherit\; font-stretch: inherit\; font-size: inherit\; line-height: inherit\; font-family: &quot\;Open Sans&quot\;\, sans-serif\; font-optical-sizing: inherit\; font-kerning: inherit\; font-feature-settings: inherit\; font-variation-settings: inherit\; margin: 0px\; padding: 0px\; vertical-align: baseline\; color: rgb(0\, 0\, 0)\;">:&nbsp\;</span><a href="https://citysprings.com/events/rockin-runway-fashion-show-fundraiser">Rockin&#39\; the Runway Fashion Show Fundraiser | City Springs</a></p>\n
LOCATION:Studio Theatre at The Sandy Springs Performing Arts Center
UID:e.569.12448
SEQUENCE:3
DTSTAMP:20260419T114056Z
URL:https://business.greaterperimeterchamber.com/events/details/rockin-the-runway-12448
END:VEVENT

END:VCALENDAR
