BEGIN:VCALENDAR
VERSION:2.0
PRODID:-//ChamberMaster//Event Calendar 2.0//EN
METHOD:PUBLISH
X-PUBLISHED-TTL:P3D
REFRESH-INTERVAL:P3D
CALSCALE:GREGORIAN
BEGIN:VEVENT
DTSTART:20240304T190000Z
DTEND:20240304T200000Z
X-MICROSOFT-CDO-ALLDAYEVENT:FALSE
SUMMARY:Ribbon Cutting - Stronger Now
DESCRIPTION:Stronger Now is a Personal Training Studio which offers Strength Training for everyone from beginners to those over 50 with the careful eye of a highly educated strength coach. We seek to improve the overall health of our clients by helping them gain physical capability in the safest most effective way possible.\n\n\n\nThe newly built 1\,000 square foot gym includes equipment tailored to beginners and seniors\, but can also accommodate competitive weight lifters. The gym layout allows for social distancing and all equipment is sterilized between each client by the staff.
X-ALT-DESC;FMTTYPE=text/html:Stronger Now is a Personal Training Studio which offers Strength Training for everyone from beginners to those over 50 with the careful eye of a highly educated strength coach. We seek to improve the overall health of our clients by helping them gain physical capability in the safest most effective way possible.<br />\n<br />\nThe newly built 1\,000 square foot gym includes equipment tailored to beginners and seniors\, but can also accommodate competitive weight lifters. The gym layout allows for social distancing and all equipment is sterilized between each client by the staff.
LOCATION:Stronger Now 214 Johnson Ferry Road\, NE Sandy Springs\, GA. 30328
UID:e.569.12372
SEQUENCE:3
DTSTAMP:20260419T161530Z
URL:https://business.greaterperimeterchamber.com/events/details/ribbon-cutting-stronger-now-12372
END:VEVENT

END:VCALENDAR
