BEGIN:VCALENDAR
VERSION:2.0
PRODID:-//ChamberMaster//Event Calendar 2.0//EN
METHOD:PUBLISH
X-PUBLISHED-TTL:P3D
REFRESH-INTERVAL:P3D
CALSCALE:GREGORIAN
BEGIN:VEVENT
DTSTART:20240424T180000Z
DTEND:20240424T190000Z
X-MICROSOFT-CDO-ALLDAYEVENT:FALSE
SUMMARY:Ribbon Cutting- Solidarity Sandy Springs
DESCRIPTION:Solidarity Sandy Springs has found a new home\, and we are happy to celebrate with them. Solidarity started in March 2020 to help food-insecure families during the COVID shutdowns. That grew into a community movement to help overlooked families. It is our great honor to help those families feel uplifted\, supported and food secure. \n\n \n\nWe serve 750-800 families per week and have served over 100\,000 shoppers.
X-ALT-DESC;FMTTYPE=text/html:<div>\n<div style="margin: 0px\; padding: 0px\; color: rgb(64\, 63\, 66)\; font-family: Arial\, Verdana\, Helvetica\, sans-serif\; font-size: 14px\; white-space-collapse: preserve\; text-align: center\;"><span style="color: rgb(0\, 0\, 0)\; font-family: &quot\;Open Sans&quot\;\, sans-serif\;">Solidarity Sandy Springs has found a new home\, and we are happy to celebrate with them. Solidarity started in March 2020 to help food-insecure families during the COVID shutdowns. That grew into a community movement to help overlooked families. It is our great honor to help those families feel uplifted\, supported and food secure.&nbsp\;</span></div>\n\n<div style="margin: 0px\; padding: 0px\; color: rgb(64\, 63\, 66)\; font-family: Arial\, Verdana\, Helvetica\, sans-serif\; font-size: 14px\; white-space-collapse: preserve\; text-align: center\;">&nbsp\;</div>\n\n<div style="margin: 0px\; padding: 0px\; color: rgb(64\, 63\, 66)\; font-family: Arial\, Verdana\, Helvetica\, sans-serif\; font-size: 14px\; white-space-collapse: preserve\; text-align: center\;"><span style="color: rgb(0\, 0\, 0)\; font-family: &quot\;Open Sans&quot\;\, sans-serif\;">We serve 750-800 families per week and have served over 100\,000 shoppers.</span></div>\n</div>\n
LOCATION:6315 Roswell Road Sandy Springs\, GA. 30328
UID:e.569.12438
SEQUENCE:3
DTSTAMP:20260419T143909Z
URL:https://business.greaterperimeterchamber.com/events/details/ribbon-cutting-solidarity-sandy-springs-12438
END:VEVENT

END:VCALENDAR
