BEGIN:VCALENDAR
VERSION:2.0
PRODID:-//ChamberMaster//Event Calendar 2.0//EN
METHOD:PUBLISH
X-PUBLISHED-TTL:P3D
REFRESH-INTERVAL:P3D
CALSCALE:GREGORIAN
BEGIN:VEVENT
DTSTART:20240206T170000Z
DTEND:20240206T180000Z
X-MICROSOFT-CDO-ALLDAYEVENT:FALSE
SUMMARY:Ribbon Cutting - Prime IV Hydration & Wellness
DESCRIPTION:As a premier IV Hydration Therapy clinic\, we formulate IV vitamin therapies that help maximize your overall health and wellness. So whether you are looking to instantly reverse a hangover\, boost your immune system through the flu season or are looking for a supplement to other therapies\, Prime IV is the answer. We offer a clean\, comfortable and relaxed environment and utilize only the latest in cutting-edge IV therapies.
X-ALT-DESC;FMTTYPE=text/html:As a premier IV Hydration Therapy clinic\, we formulate IV vitamin therapies that help maximize your overall health and wellness. So whether you are looking to instantly reverse a hangover\, boost your immune system through the flu season or are looking for a supplement to other therapies\, Prime IV is the answer. We offer a clean\, comfortable and relaxed environment and utilize only the latest in cutting-edge IV therapies.
LOCATION:Prime IV Hydration 6307 Roswell Road\, Suite B Sandy Springs\, GA. 30328
UID:e.569.12422
SEQUENCE:3
DTSTAMP:20260419T195939Z
URL:https://business.greaterperimeterchamber.com/events/details/ribbon-cutting-prime-iv-hydration-wellness-12422
END:VEVENT

END:VCALENDAR
