BEGIN:VCALENDAR
VERSION:2.0
PRODID:-//ChamberMaster//Event Calendar 2.0//EN
METHOD:PUBLISH
X-PUBLISHED-TTL:P3D
REFRESH-INTERVAL:P3D
CALSCALE:GREGORIAN
BEGIN:VEVENT
DTSTART:20240415T180000Z
DTEND:20240415T190000Z
X-MICROSOFT-CDO-ALLDAYEVENT:FALSE
SUMMARY:Ribbon Cutting - Perrine's Wine Shop
DESCRIPTION:PERRINE's WINE - SANDY SPRINGS  in Parkside Shop opened its doors in November 2023. The shop is similar to the original showcasing Old World and New World wines. We are driven to highlight producers who strive to make wine that reflects its terroir and farm with the intention to leave the land a better place for the generations to come. We have a separate Tasting Room / Event Space where we host public tasting as well as private events. The Perfect Event Space.
X-ALT-DESC;FMTTYPE=text/html:<span style="box-sizing: border-box\; -webkit-font-smoothing: antialiased\; margin: 0px\; padding: 0px\; border: 0px\; font-variant-numeric: inherit\; font-variant-east-asian: inherit\; font-variant-alternates: inherit\; font-variant-position: inherit\; font-weight: var(--font-weight-body-bold)\; font-stretch: inherit\; font-size: 14px\; line-height: inherit\; font-family: &quot\;Trade Gothic&quot\;\, sans-serif\; font-optical-sizing: inherit\; font-kerning: inherit\; font-feature-settings: inherit\; font-variation-settings: inherit\; vertical-align: baseline\; color: rgb(106\, 106\, 106)\; text-align: center\;">PERRINE&#39\;s WINE - SANDY SPRINGS &nbsp\;</span><span style="color: rgb(106\, 106\, 106)\; font-family: &quot\;Trade Gothic&quot\;\, sans-serif\; font-size: 14px\; text-align: center\;">in Parkside Shop opened its doors in November 2023. The shop is similar to the original showcasing Old World and New World wines. We are driven to highlight producers who strive to make wine that reflects its terroir and farm with the intention to leave the land a better place for the generations to come. We have a separate Tasting Room / Event Space where we host public tasting as well as private events. The Perfect Event Space.</span>
LOCATION:Perrine's Wine Shop 5920 Roswell Road Suite B 108 Sandy Springs\, GA 30328
UID:e.569.12440
SEQUENCE:3
DTSTAMP:20260419T143832Z
URL:https://business.greaterperimeterchamber.com/events/details/ribbon-cutting-perrine-s-wine-shop-12440
END:VEVENT

END:VCALENDAR
