BEGIN:VCALENDAR
VERSION:2.0
PRODID:-//ChamberMaster//Event Calendar 2.0//EN
METHOD:PUBLISH
X-PUBLISHED-TTL:P3D
REFRESH-INTERVAL:P3D
CALSCALE:GREGORIAN
BEGIN:VEVENT
DTSTART:20240501T150000Z
DTEND:20240501T160000Z
X-MICROSOFT-CDO-ALLDAYEVENT:FALSE
SUMMARY:Ribbon Cutting- La Dee Da
DESCRIPTION:Join the chamber as we celebrate La Dee Da's 10th Anniversary celebration ribbon cutting!
X-ALT-DESC;FMTTYPE=text/html:<div>Join the chamber as we celebrate La Dee Da&#39\;s 10th Anniversary celebration ribbon cutting!</div>\n
LOCATION:La Dee Da 105 Cliftwood Dr. Sandy\, Springs\, GA. 30328
UID:e.569.12439
SEQUENCE:3
DTSTAMP:20260419T130654Z
URL:https://business.greaterperimeterchamber.com/events/details/ribbon-cutting-la-dee-da-12439
END:VEVENT

END:VCALENDAR
