BEGIN:VCALENDAR
VERSION:2.0
PRODID:-//ChamberMaster//Event Calendar 2.0//EN
METHOD:PUBLISH
X-PUBLISHED-TTL:P3D
REFRESH-INTERVAL:P3D
CALSCALE:GREGORIAN
BEGIN:VEVENT
DTSTART:20240125T160000Z
DTEND:20240125T170000Z
X-MICROSOFT-CDO-ALLDAYEVENT:FALSE
SUMMARY:Ribbon Cutting - Joiful Yoga
DESCRIPTION:Joiful Yoga is a yoga and meditation studio in Sandy Springs\, Georgia. We host classes in Vinyasa\, Hatha\, Kundalini\, Ashtanga\, Yin\, Restore\, and more.  In addition to yoga and meditation\, we host a wide variety of other types of classes\, like Satsanga\, Reiki Circles\, Sound Baths\, and more. We are big on community and connection and seek ways to foster that spirit within ourselves and in our community. We are so glad you are here\, and we look forward to growing with you - on and off the mat.
X-ALT-DESC;FMTTYPE=text/html:Joiful Yoga is a yoga and meditation studio in Sandy Springs\, Georgia. We host classes in Vinyasa\, Hatha\, Kundalini\, Ashtanga\, Yin\, Restore\, and more.&nbsp\; In addition to yoga and meditation\, we host a wide variety of other types of classes\, like Satsanga\, Reiki Circles\, Sound Baths\, and more. We are big on community and connection and seek ways to foster that spirit within ourselves and in our community. We are so glad you are here\, and we look forward to growing with you - on and off the mat.
LOCATION:Joiful Yoga 205 Hilderbrand Drive Sandy Springs\, GA. 30328
UID:e.569.12371
SEQUENCE:3
DTSTAMP:20260419T194340Z
URL:https://business.greaterperimeterchamber.com/events/details/ribbon-cutting-joiful-yoga-12371
END:VEVENT

END:VCALENDAR
