BEGIN:VCALENDAR
VERSION:2.0
PRODID:-//ChamberMaster//Event Calendar 2.0//EN
METHOD:PUBLISH
X-PUBLISHED-TTL:P3D
REFRESH-INTERVAL:P3D
CALSCALE:GREGORIAN
BEGIN:VEVENT
DTSTART:20240306T180000Z
DTEND:20240306T190000Z
X-MICROSOFT-CDO-ALLDAYEVENT:FALSE
SUMMARY:Ribbon Cutting - HOTWORX Sandy Springs 5th Anniversary
DESCRIPTION:HOTWORX offers members unlimited\, 24-hour access to a variety of virtually instructed\, infrared sauna workouts. Our members achieve their fitness goals with 3D Training- our powerful combination of heat\, infrared energy\, and exercise.
X-ALT-DESC;FMTTYPE=text/html:HOTWORX offers members unlimited\, 24-hour access to a variety of virtually instructed\, infrared sauna workouts. Our members achieve their fitness goals with 3D Training- our powerful combination of heat\, infrared energy\, and exercise.
LOCATION:HOTWORX Sandy Springs 6115 Peachtree Dunwoody Road\, Suite 110 Sandy Springs\, GA. 30328
UID:e.569.12428
SEQUENCE:3
DTSTAMP:20260419T161909Z
URL:https://business.greaterperimeterchamber.com/events/details/ribbon-cutting-hotworx-sandy-springs-5th-anniversary-12428
END:VEVENT

END:VCALENDAR
