BEGIN:VCALENDAR
VERSION:2.0
PRODID:-//ChamberMaster//Event Calendar 2.0//EN
METHOD:PUBLISH
X-PUBLISHED-TTL:P3D
REFRESH-INTERVAL:P3D
CALSCALE:GREGORIAN
BEGIN:VEVENT
DTSTART:20240305T170000Z
DTEND:20240305T180000Z
X-MICROSOFT-CDO-ALLDAYEVENT:FALSE
SUMMARY:Ribbon Cutting - Alloy Personal Training Sandy Springs
DESCRIPTION:Join the Sandy Springs Perimeter Chamber as we help celebrate the Grand Opening & Ribbon Cutting of Alloy Personal Training Sandy Springs.\n\n\n\nA Little Bit About Alloy Personal Training Sandy Springs\n\nSINCE 1992\, WE HAVE HELPED COUNTLESS PEOPLE GET IN THE BEST SHAPE OF THEIR LIVES.\n\nWe realize that being fit is about much more than what we see in the mirror   It's about living life to the fullest. Alloy welcomes people no matter where they are in their fitness journey. For decades we have been helping people understand what they are capable of. We are uniquely focused on helping today's adults lead more active and healthier lifestyles.
X-ALT-DESC;FMTTYPE=text/html:<p><span id="cke_bm_144S" style="display: none\;">&nbsp\;</span>Join the Sandy Springs Perimeter Chamber as we help celebrate the Grand Opening &amp\; Ribbon Cutting&nbsp\;of Alloy Personal Training Sandy Springs.<br />\n<br />\n<u><strong>A Little Bit About Alloy Personal Training Sandy Springs</strong></u></p>\n\n<p>SINCE 1992\, WE HAVE HELPED COUNTLESS PEOPLE GET IN THE BEST SHAPE OF THEIR LIVES.<br />\nWe realize that being fit is about much more than what we see in the mirror &ndash\; It&rsquo\;s about living life to the fullest. Alloy welcomes people no matter where they are in their fitness journey. For decades we have been helping people understand what they are capable of. We are uniquely focused on helping today&rsquo\;s adults lead more active and healthier lifestyles.<br />\n<br />\n&nbsp\;</p>\n\n<p><span id="cke_bm_144E" style="display: none\;">&nbsp\;</span></p>\n
LOCATION:Alloy Personal Training Sandy Springs 6075 Roswell Road\, Suite 300 Sandy Springs\, GA. 30328
UID:e.569.12427
SEQUENCE:3
DTSTAMP:20260419T161659Z
URL:https://business.greaterperimeterchamber.com/events/details/ribbon-cutting-alloy-personal-training-sandy-springs-12427
END:VEVENT

END:VCALENDAR
