BEGIN:VCALENDAR
VERSION:2.0
PRODID:-//ChamberMaster//Event Calendar 2.0//EN
METHOD:PUBLISH
X-PUBLISHED-TTL:P3D
REFRESH-INTERVAL:P3D
CALSCALE:GREGORIAN
BEGIN:VEVENT
DTSTART:20240612T183000Z
DTEND:20240612T193000Z
X-MICROSOFT-CDO-ALLDAYEVENT:FALSE
SUMMARY:Restaurant Council Meeting
DESCRIPTION:One valuable perk of Chamber membership for restaurants is the opportunity to join the Restaurant Council an exclusive network of Sandy Springs restaurants. Here\, members can engage in knowledge sharing and gain direct access to other restaurant owners and city officials for discussions on restaurant-specific topics. Please note\, this event is exclusively open to restaurants.
X-ALT-DESC;FMTTYPE=text/html:One valuable perk of Chamber membership for restaurants is the opportunity to join the Restaurant Council&mdash\;an exclusive network of Sandy Springs restaurants. Here\, members can engage in knowledge sharing and gain direct access to other restaurant owners and city officials for discussions on restaurant-specific topics. Please note\, this event is exclusively open to restaurants.
LOCATION:Chef Rob's Cafe & Bar 5920 Roswell Road #117 Sandy Springs\, GA 30328
UID:e.569.12443
SEQUENCE:3
DTSTAMP:20260421T123436Z
URL:https://business.greaterperimeterchamber.com/events/details/restaurant-council-meeting-12443
END:VEVENT

END:VCALENDAR
