BEGIN:VCALENDAR
VERSION:2.0
PRODID:-//ChamberMaster//Event Calendar 2.0//EN
METHOD:PUBLISH
X-PUBLISHED-TTL:P3D
REFRESH-INTERVAL:P3D
CALSCALE:GREGORIAN
BEGIN:VEVENT
DTSTART:20240320T183000Z
DTEND:20240320T193000Z
X-MICROSOFT-CDO-ALLDAYEVENT:FALSE
SUMMARY:Restaurant Council Meeting
DESCRIPTION:Restaurant Council Meeting\n\n\n\n Our Restaurant Council will be gathering together to share best practices\, ideas\, issues\, and events happening amongst local Sandy Springs Restaurants. Please register on this page for this discussion to join us\, this event is for Restaurants Only.
X-ALT-DESC;FMTTYPE=text/html:<p style="text-align: center\;"><b>Restaurant Council Meeting</b><br />\n<br />\n&nbsp\;Our Restaurant Council will be gathering&nbsp\;together to share best practices\, ideas\, issues\, and events happening&nbsp\;amongst local Sandy Springs Restaurants. Please register on this page for this discussion to join us\, this event is for<strong> Restaurants Only.&nbsp\;</strong></p>\n
LOCATION:Nowak's Sandy Springs 6690 Roswell Road Sandy Springs\, GA. 30328
UID:e.569.12437
SEQUENCE:3
DTSTAMP:20260419T161646Z
URL:https://business.greaterperimeterchamber.com/events/details/restaurant-council-meeting-12437
END:VEVENT

END:VCALENDAR
