BEGIN:VCALENDAR
VERSION:2.0
PRODID:-//ChamberMaster//Event Calendar 2.0//EN
METHOD:PUBLISH
X-PUBLISHED-TTL:P3D
REFRESH-INTERVAL:P3D
CALSCALE:GREGORIAN
BEGIN:VEVENT
DTSTART:20260129T230000Z
DTEND:20260130T010000Z
X-MICROSOFT-CDO-ALLDAYEVENT:FALSE
SUMMARY:Perimeter Young Professionals Sip & Social @ Mutation Brewing
DESCRIPTION:Perimeter Young Professionals gather periodically for a vibrant after-hours sip and social designed to bring emerging leaders together in a relaxed\, welcoming setting. Through intentional connection and meaningful conversation\, this program creates space for young professionals to build authentic relationships\, exchange ideas\, and expand their influence. It's where career growth meets community strengthening individual paths while shaping the future of the regional business ecosystem.\n\n\n\n \n\nWhat's Included with Your Registration\n\n\n	\n	One drink ticket and light bites\n	\n	\n	Thoughtfully designed networking experiences that encourage meaningful connection and collaboration\n	\n\n\n\n\n\n\nEvent Reminders\n\n\n\nSponsorship\n\nExplore sponsorship opportunities for this event by visiting our 2026 Total Resource Campaign (see page 15).\n\n\n\nPre-Registration\n\nPlease register in advance to help us prepare for a seamless experience. Walk-ins cannot always be accommodated and\, if space allows\, will incur a $10 surcharge. All registrations are final and non-refundable.\n\n\n\nPhoto/Video Release\n\nBy attending\, you consent to the use of event photos and videos in future Greater Perimeter Chamber marketing.\n\n\n\nSpeaker Disclaimer\n\nThe views shared by event speakers are their own and do not necessarily reflect those of the Greater Perimeter Chamber.\n\n\n\nCommunication Consent\n\nBy providing your email\, you agree to receive occasional Chamber updates and event invitations. You may unsubscribe at any time.\n\n \n\n\n\n\n\n\n\n\n\nJoin us for Perimeter Young Professionals a dynamic community where emerging leaders connect\, grow\, and build the relationships and skills needed to lead with confidence and shape the future of our business community.
X-ALT-DESC;FMTTYPE=text/html:<p style="background: rgb(238\, 238\, 238)\; border: 1px solid rgb(204\, 204\, 204)\; padding: 5px 10px\;"><span style="font-size:16px\;"><span style="font-family:tahoma\;"><strong>Perimeter Young Professionals</strong> gather periodically for a vibrant after-hours sip and social designed to bring emerging leaders together in a relaxed\, welcoming setting. Through intentional connection and meaningful conversation\, this program creates space for young professionals to build authentic relationships\, exchange ideas\, and expand their influence. It&rsquo\;s where career growth meets community&mdash\;strengthening individual paths while shaping the future of the regional business ecosystem.</span></span><br />\n<br />\n&nbsp\;</p>\n\n<p data-end="42" data-start="0"><strong data-end="42" data-start="0">What&rsquo\;s Included with Your Registration</strong></p>\n\n<ul data-end="233" data-is-last-node="" data-is-only-node="" data-start="44">\n	<li data-end="80" data-start="44">\n	<p data-end="80" data-start="46">One drink ticket and light bites</p>\n	</li>\n	<li data-end="233" data-is-last-node="" data-start="132">\n	<p data-end="233" data-is-last-node="" data-start="134">Thoughtfully designed networking experiences that encourage meaningful connection and collaboration</p>\n	</li>\n</ul>\n\n<div class="flex max-w-full flex-col flex-grow">\n<div class="min-h-8 text-message flex w-full flex-col items-end gap-2 whitespace-normal break-words [.text-message+&amp\;]:mt-5" data-message-author-role="assistant" data-message-id="e293422d-c887-4832-a360-3c683fa54422" data-message-model-slug="gpt-4o" dir="auto">\n<div class="flex w-full flex-col gap-1 empty:hidden first:pt-[3px]">\n<div class="markdown prose w-full break-words dark:prose-invert light">\n<p><strong style="font-family: tahoma\; font-size: 16.8px\;">Event Reminders</strong><br style="font-family: tahoma\; font-size: 16.8px\;" />\n<br style="font-family: tahoma\; font-size: 16.8px\;" />\n<span style="font-family: tahoma\; font-size: 16.8px\;">Sponsorship</span><br style="font-family: tahoma\; font-size: 16.8px\;" />\n<span style="font-family: tahoma\; font-size: 16.8px\;">Explore sponsorship opportunities for this event by visiting our&nbsp\;</span><a href="https://www.canva.com/design/DAGuARBYmVA/q_nz1uo2SXCUKLPHbCrWAg/view?utm_content=DAGuARBYmVA&amp\;utm_campaign=designshare&amp\;utm_medium=link2&amp\;utm_source=uniquelinks&amp\;utlId=h1472071473" style="font-family: tahoma\; font-size: 16.8px\;">2026 Total Resource Campaign (see page 15).</a><br style="font-family: tahoma\; font-size: 16.8px\;" />\n<br style="font-family: tahoma\; font-size: 16.8px\;" />\n<span style="font-family: tahoma\; font-size: 16.8px\;">Pre-Registration</span><br style="font-family: tahoma\; font-size: 16.8px\;" />\n<span style="font-family: tahoma\; font-size: 16.8px\;">Please register in advance to help us prepare for a seamless experience. Walk-ins cannot always be accommodated and\, if space allows\, will incur a $10 surcharge. All registrations are final and non-refundable.</span><br style="font-family: tahoma\; font-size: 16.8px\;" />\n<br style="font-family: tahoma\; font-size: 16.8px\;" />\n<span style="font-family: tahoma\; font-size: 16.8px\;">Photo/Video Release</span><br style="font-family: tahoma\; font-size: 16.8px\;" />\n<span style="font-family: tahoma\; font-size: 16.8px\;">By attending\, you consent to the use of event photos and videos in future Greater Perimeter Chamber marketing.</span><br style="font-family: tahoma\; font-size: 16.8px\;" />\n<br style="font-family: tahoma\; font-size: 16.8px\;" />\n<span style="font-family: tahoma\; font-size: 16.8px\;">Speaker Disclaimer</span><br style="font-family: tahoma\; font-size: 16.8px\;" />\n<span style="font-family: tahoma\; font-size: 16.8px\;">The views shared by event speakers are their own and do not necessarily reflect those of the Greater Perimeter Chamber.</span><br style="font-family: tahoma\; font-size: 16.8px\;" />\n<br style="font-family: tahoma\; font-size: 16.8px\;" />\n<span style="font-family: tahoma\; font-size: 16.8px\;">Communication Consent</span><br style="font-family: tahoma\; font-size: 16.8px\;" />\n<span style="font-family: tahoma\; font-size: 16.8px\;">By providing your email\, you agree to receive occasional Chamber updates and event invitations. You may unsubscribe at any time.</span><br />\n&nbsp\;</p>\n\n<div class="flex flex-col text-sm pb-25">\n<article class="text-token-text-primary w-full focus:outline-none [--shadow-height:45px] has-data-writing-block:pointer-events-none has-data-writing-block:-mt-(--shadow-height) has-data-writing-block:pt-(--shadow-height) [&amp\;:has([data-writing-block])&gt\;*]:pointer-events-auto scroll-mt-[calc(var(--header-height)+min(200px\,max(70px\,20svh)))]" data-scroll-anchor="true" data-testid="conversation-turn-14" data-turn="assistant" data-turn-id="request-WEB:336e8366-6428-4c1d-a505-4b56c2d90185-6" dir="auto" tabindex="-1">\n<div class="text-base my-auto mx-auto pb-10 [--thread-content-margin:--spacing(4)] @w-sm/main:[--thread-content-margin:--spacing(6)] @w-lg/main:[--thread-content-margin:--spacing(16)] px-(--thread-content-margin)">\n<div class="[--thread-content-max-width:40rem] @w-lg/main:[--thread-content-max-width:48rem] mx-auto max-w-(--thread-content-max-width) flex-1 group/turn-messages focus-visible:outline-hidden relative flex w-full min-w-0 flex-col agent-turn" tabindex="-1">\n<div>\n<div data-message-author-role="assistant" data-message-id="aa31aa6e-610e-4853-98d1-990f44ee52f1" data-message-model-slug="gpt-5-2" dir="auto">\n<div>\n<div>\n<div data-end="217" data-is-last-node="" data-is-only-node="" data-start="0"><span style="color:#000080\;"><em><span style="font-size:14px\;"><span style="font-family:tahoma\;"><big>Join us for Perimeter Young Professionals&mdash\;a dynamic community where emerging leaders connect\, grow\, and build the relationships and skills needed to lead with confidence and shape the future of our business community.</big></span></span></em></span></div>\n</div>\n</div>\n</div>\n</div>\n</div>\n</div>\n</article>\n</div>\n</div>\n</div>\n</div>\n</div>\n
LOCATION:Mutation Brewing 5825 Roswell Road\, NE Sandy Springs\, GA 30328
UID:e.569.16737
SEQUENCE:3
DTSTAMP:20260420T235740Z
URL:https://business.greaterperimeterchamber.com/events/details/perimeter-young-professionals-sip-social-mutation-brewing-01-29-2026-16737
END:VEVENT

END:VCALENDAR
