BEGIN:VCALENDAR
VERSION:2.0
PRODID:-//ChamberMaster//Event Calendar 2.0//EN
METHOD:PUBLISH
X-PUBLISHED-TTL:P3D
REFRESH-INTERVAL:P3D
CALSCALE:GREGORIAN
BEGIN:VEVENT
DTSTART:20260920T190000Z
DTEND:20260920T210000Z
X-MICROSOFT-CDO-ALLDAYEVENT:FALSE
SUMMARY:Open Studio
DESCRIPTION:Designed especially for families and young children to come enjoy arts and crafts during non regimented classroom hours. Our open studio hours provide plenty of creativity and flexibility of projects. Children will have access to a wide range of inspiring materials and a variety of ways to explore them. From unlimited access to all the glitter\, pom pom\, sequins and more\, children can choose from our creative menu of crafts available\, or seasonally themed projects. Come create something special for a loved one or for yourself! Studio staff does not offer formal art instruction\; we encourage creative thinking\, provide gentle guidance and offer support as needed. Open studio is offered every Friday & Sunday from 3 pm ? 5 pm (unless we have a specialty event noted on our calendar)\, and ongoing during weekdays when classes are not in session. Please check online calendar as our schedule changes based on our class schedule. Studio is closed on Mondays.
X-ALT-DESC;FMTTYPE=text/html:<p style="box-sizing: inherit\; padding: 0px\; margin-right: 0px\; margin-left: 0px\; -webkit-font-smoothing: antialiased\; line-height: var(--wp--typography--line-height\, var(--global--line-height-body))\; max-width: var(--global--spacing-measure)\; margin-block: 24px 0px\; overflow-wrap: break-word\; margin-top: 0px\; margin-bottom: calc(var(--global--spacing-vertical)*0.666)\; caret-color: rgb(84\, 84\, 94)\; color: rgb(84\, 84\, 94)\; font-family: BrandonGrotesque\; font-size: 17.6px\;">Designed especially for families and young children to come enjoy arts and crafts during non regimented classroom hours. Our open studio hours provide plenty of creativity and flexibility of projects. Children will have access to a wide range of inspiring materials and a variety of ways to explore them. From unlimited access to all the glitter\, pom pom\, sequins and more\, children can choose from our creative menu of crafts available\, or seasonally themed projects. Come create something special for a loved one or for yourself! Studio staff does not offer formal art instruction\; we encourage creative thinking\, provide gentle guidance and offer support as needed.&nbsp\;<strong style="box-sizing: inherit\; max-width: var(--global--spacing-measure)\;">Open studio</strong>&nbsp\;is offered&nbsp\;<strong style="box-sizing: inherit\; max-width: var(--global--spacing-measure)\;">every Friday &amp\; Sunday from 3 pm ? 5 pm&nbsp\;</strong><em style="box-sizing: inherit\; max-width: var(--global--spacing-measure)\;">(unless we have a specialty event noted on our calendar)</em>\, and ongoing during weekdays when classes are not in session. Please check online calendar as our schedule changes based on our class schedule.&nbsp\;<strong style="box-sizing: inherit\; max-width: var(--global--spacing-measure)\;">Studio is closed on Mondays</strong>.<br />\n&nbsp\;</p>\n
LOCATION:
UID:e.569.14411
SEQUENCE:3
DTSTAMP:20260419T131336Z
URL:https://business.greaterperimeterchamber.com/events/details/open-studio-09-20-2026-14411
END:VEVENT

END:VCALENDAR
