BEGIN:VCALENDAR
VERSION:2.0
PRODID:-//ChamberMaster//Event Calendar 2.0//EN
METHOD:PUBLISH
X-PUBLISHED-TTL:P3D
REFRESH-INTERVAL:P3D
CALSCALE:GREGORIAN
BEGIN:VEVENT
DTSTART:20240131T163000Z
DTEND:20240131T180000Z
X-MICROSOFT-CDO-ALLDAYEVENT:FALSE
SUMMARY:Northside Hospital presents The SSPC Annual Meeting and Awards
DESCRIPTION:The Annual Meeting Luncheon and Awards is a renewal of an annual event that gathers our membership to reflect upon 2023's achievements by the outgoing Board Chairman and set a course for continued success and growth in 2024 by in the incoming Board Chair. We will also recognize and celebrate fellow members who have contributed to the past year's accomplishments through our Small Business Awards. The Annual Meeting is presented by Northside Hospital\, with Choate Construction as the Luncheon Sponsor and LGE Community Credit Union as the Awards Sponsor.\n\n\n\nSmall Business of the Year Nominees: \n\n- Nothing Bundt Cakes\n\n- Southern Live Oak Wellness (S.L.O.W.) \n\n- Puttogo Global Group \n\n\n\nVolunteer of the Year Nominees: \n\n- Debra Cohen\n\n- Linda Vu \n\n- Alan Smirin \n\n\n\nRestaurant of the Year Nominees: \n\n- City Barbeque \n\n- Ray's on the River\n\n- Colonial Kitchen
X-ALT-DESC;FMTTYPE=text/html:<span style="color:black\;"><span style="font-family:aptos\,sans-serif\;">The Annual Meeting Luncheon and Awards is a renewal of an annual event that gathers our membership to reflect upon 2023&#39\;s achievements by the outgoing Board Chairman and set a course for continued success and growth in 2024 by in the incoming Board Chair. We will also recognize and celebrate fellow members who have contributed to the past year&#39\;s accomplishments through our Small Business Awards. The Annual Meeting is presented by Northside Hospital\, with Choate Construction as the Luncheon Sponsor and LGE Community Credit Union as the Awards Sponsor.</span></span><br />\n<br />\n<strong>Small Business of the Year Nominees:&nbsp\;</strong><br />\n- Nothing Bundt Cakes<br />\n- Southern Live Oak Wellness (S.L.O.W.)&nbsp\;<br />\n- Puttogo Global Group&nbsp\;<br />\n<br />\n<strong>Volunteer of the Year Nominees:&nbsp\;</strong><br />\n- Debra Cohen<br />\n- Linda Vu&nbsp\;<br />\n- Alan Smirin&nbsp\;<br />\n<br />\n<strong>Restaurant of the Year Nominees:&nbsp\;</strong><br />\n- City Barbeque&nbsp\;<br />\n- Ray&#39\;s on the River<br />\n- Colonial Kitchen
LOCATION:City Springs Terrace 1 Galambos Way Sandy Springs GA 30328
UID:e.569.12404
SEQUENCE:3
DTSTAMP:20260419T194144Z
URL:https://business.greaterperimeterchamber.com/events/details/northside-hospital-presents-the-sspc-annual-meeting-and-awards-12404
END:VEVENT

END:VCALENDAR
