BEGIN:VCALENDAR
VERSION:2.0
PRODID:-//ChamberMaster//Event Calendar 2.0//EN
METHOD:PUBLISH
X-PUBLISHED-TTL:P3D
REFRESH-INTERVAL:P3D
CALSCALE:GREGORIAN
BEGIN:VEVENT
DTSTART:20240522T120000Z
DTEND:20240522T133000Z
X-MICROSOFT-CDO-ALLDAYEVENT:FALSE
SUMMARY:Non Profit Leadership Breakfast Series - Power Hour
DESCRIPTION:To our local Non-Profit Organizations\n\nYou are invited to be our guest at the first quarterly Georgia Nonprofit Leadership Breakfast. Carr\, Riggs and Ingram LLC and Coastal States Bank present the opportunity to engage with fellow nonprofit leaders to discuss how to drive your organization's revenue growth and amplify your impact. This informative session\, led by Hudson Ferris\, a nonprofit fundraising consultancy\, is full of actionable insights to take back to your organization and use immediately. Make sure to be part of this enlightening session where strategy meets purpose. Secure your spot now as spaces are limited.\n\n\n\nRSVP:  Please note that space is limited\, so we encourage you to RSVP immediately to secure your spot. You can do so by clicking on the following link: https://www.addevent.com/event/dj21521038. (Please note that the time zone on the link is CENTRAL time.)\n\nWe will be serving coffee and light bites\, and there will be ample opportunities for networking.\n\nThe event will cover the following topics:\n\n	Fundraising- Fueling Your Mission\n	Cultivating Curiosity- Spreading awareness to gain new donors\n	Mission Matchmaker- Aligning your story with donor passions\n	Frictionless Fundraising- creating multiple pathways for donors to give\n\nWe look forward to your participation in this enriching event.
X-ALT-DESC;FMTTYPE=text/html:<strong>To our local Non-Profit Organizations</strong><br />\n<span style="font-family:new times roman">You are invited to be our guest at the first quarterly Georgia Nonprofit Leadership Breakfast. Carr\, Riggs and Ingram LLC and Coastal States Bank present the opportunity to engage with fellow nonprofit leaders to discuss how to <strong>drive your organization&#39\;s revenue growth</strong> and amplify your impact. This informative session\, led by </span><a href="https://links.us1.defend.egress.com/Warning?crId=6639177b1a2cd7ae4f22db24&amp\;Domain=coastalstatesbank.com&amp\;Lang=en&amp\;Base64Url=eNrLKCkpsNLXLy8v18soTSnOz0tLLSrKLNZLzs_VBwCaqwqk&amp\;@OriginalLink=www.hudsonferris.com" title="http://www.hudsonferris.com/"><span style="font-family:new times roman">Hudson Ferris</span></a><span style="font-family:new times roman">\, a nonprofit fundraising consultancy\, is full of actionable insights to take back to your organization and use immediately. Make sure to be part of this enlightening session where strategy meets purpose. Secure your spot now as spaces are limited.</span><br />\n<br />\n<strong>RSVP:</strong>&nbsp\; Please note that space is limited\, so we encourage you to RSVP immediately to secure your spot. You can do so by clicking on the following link:&nbsp\;<span style="font-family:calibri\,sans-serif"><span style="font-size:11.0pt"><a href="https://www.addevent.com/event/dj21521038">https://www.addevent.com/event/dj21521038</a></span></span>. (Please note that the time zone on the link is CENTRAL time.)<br />\nWe will be serving coffee and light bites\, and there will be ample opportunities for networking.<br />\nThe event will cover the following topics:\n<ul>\n	<li><strong>Fundraising- Fueling Your Mission</strong></li>\n	<li><strong>Cultivating Curiosity- Spreading awareness to gain new donors</strong></li>\n	<li><strong>Mission Matchmaker- Aligning your story with donor passions</strong></li>\n	<li><strong>Frictionless Fundraising- creating multiple pathways for donors to give</strong></li>\n</ul>\nWe look forward to your participation in this enriching event.
LOCATION:Location: Sandy Springs Chamber office\, 1000 Abernathy Rd\, Ste L-10\, Sandy Springs
UID:e.569.12446
SEQUENCE:3
DTSTAMP:20260419T125531Z
URL:https://business.greaterperimeterchamber.com/events/details/non-profit-leadership-breakfast-series-power-hour-12446
END:VEVENT

END:VCALENDAR
