BEGIN:VCALENDAR
VERSION:2.0
PRODID:-//ChamberMaster//Event Calendar 2.0//EN
METHOD:PUBLISH
X-PUBLISHED-TTL:P3D
REFRESH-INTERVAL:P3D
CALSCALE:GREGORIAN
BEGIN:VEVENT
DTSTART:20260610T153000Z
DTEND:20260610T170000Z
X-MICROSOFT-CDO-ALLDAYEVENT:FALSE
SUMMARY:Networking @ Noon @ Big Play
DESCRIPTION:Networking at Noon is the Greater Perimeter Chamber's signature midday networking experience designed for busy professionals who want to make meaningful connections without adding another event to their calendar.  \n\n\n\nHosted every other month at local Chamber member venues\, this relaxed\, lunchtime gathering brings together business leaders\, entrepreneurs\, and decision-makers for purposeful conversation and relationship-building. No formal agenda\, no pressure just smart networking over a great meal.  \n\n\n\nWhether you're looking to expand your circle\, explore new partnerships\, or stay connected to the Greater Perimeter business community\, Networking at Noon turns an everyday lunch into a valuable opportunity to grow your business and your network.\n\nEvent Reminders\n\n\n\nSponsorship\n\nExplore sponsorship opportunities for this event by visiting our 2026 Total Resource Campaign (see page 12).\n\n\n\nPre-Registration\n\nPlease register in advance to help us prepare for a seamless experience. Walk-ins cannot always be accommodated and\, if space allows\, will incur a $10 surcharge. All registrations are final and non-refundable.\n\n\n\nPhoto/Video Release\n\nBy attending\, you consent to the use of event photos and videos in future Greater Perimeter Chamber marketing.\n\n\n\nSpeaker Disclaimer\n\nThe views shared by event speakers are their own and do not necessarily reflect those of the Greater Perimeter Chamber.\n\n\n\nCommunication Consent\n\nBy providing your email\, you agree to receive occasional Chamber updates and event invitations. You may unsubscribe at any time.\n\n\n\nJoin us for Networking at Noon a relaxed\, midday gathering where Greater Perimeter professionals connect\, share ideas\, and build meaningful business relationships over lunch.
X-ALT-DESC;FMTTYPE=text/html:<div class="flex max-w-full flex-col flex-grow">\n<div class="min-h-8 text-message flex w-full flex-col items-end gap-2 whitespace-normal break-words [.text-message+&amp\;]:mt-5" data-message-author-role="assistant" data-message-id="e293422d-c887-4832-a360-3c683fa54422" data-message-model-slug="gpt-4o" dir="auto">\n<div class="flex w-full flex-col gap-1 empty:hidden first:pt-[3px]">\n<div class="markdown prose w-full break-words dark:prose-invert light">\n<div style="background:#eee\;border:1px solid #ccc\;padding:5px 10px\;"><span style="font-size:16px\;"><span style="font-family:tahoma\;"><strong data-end="22" data-start="0">Networking at Noon</strong> is the Greater Perimeter Chamber&rsquo\;s signature midday networking experience&mdash\;designed for busy professionals who want to make meaningful connections without adding another event to their calendar.&nbsp\;&nbsp\;</span></span><br />\n<br />\n<span style="font-size:16px\;"><span style="font-family:tahoma\;">Hosted every other month&nbsp\;at local Chamber member venues\, this relaxed\, lunchtime gathering brings together business leaders\, entrepreneurs\, and decision-makers for purposeful conversation and relationship-building. No formal agenda\, no pressure&mdash\;just smart networking over a great meal.&nbsp\;&nbsp\;</span></span><br />\n<br />\n<span style="font-size:16px\;"><span style="font-family:tahoma\;">Whether you&rsquo\;re looking to expand your circle\, explore new partnerships\, or stay connected to the Greater Perimeter business community\, Networking at Noon turns an everyday lunch into a valuable opportunity to grow your business and your network.</span></span></div>\n\n<p><strong style="font-family: tahoma\; font-size: 16.8px\;">Event Reminders</strong><br style="font-family: tahoma\; font-size: 16.8px\;" />\n<br style="font-family: tahoma\; font-size: 16.8px\;" />\n<span style="font-family: tahoma\; font-size: 16.8px\;">Sponsorship</span><br style="font-family: tahoma\; font-size: 16.8px\;" />\n<span style="font-family: tahoma\; font-size: 16.8px\;">Explore sponsorship opportunities for this event by visiting our&nbsp\;</span><a href="https://www.canva.com/design/DAGuARBYmVA/q_nz1uo2SXCUKLPHbCrWAg/view?utm_content=DAGuARBYmVA&amp\;utm_campaign=designshare&amp\;utm_medium=link2&amp\;utm_source=uniquelinks&amp\;utlId=h1472071473" style="font-family: tahoma\; font-size: 16.8px\;">2026 Total Resource Campaign (see page 12).</a><br style="font-family: tahoma\; font-size: 16.8px\;" />\n<br style="font-family: tahoma\; font-size: 16.8px\;" />\n<span style="font-family: tahoma\; font-size: 16.8px\;">Pre-Registration</span><br style="font-family: tahoma\; font-size: 16.8px\;" />\n<span style="font-family: tahoma\; font-size: 16.8px\;">Please register in advance to help us prepare for a seamless experience. Walk-ins cannot always be accommodated and\, if space allows\, will incur a $10 surcharge. All registrations are final and non-refundable.</span><br style="font-family: tahoma\; font-size: 16.8px\;" />\n<br style="font-family: tahoma\; font-size: 16.8px\;" />\n<span style="font-family: tahoma\; font-size: 16.8px\;">Photo/Video Release</span><br style="font-family: tahoma\; font-size: 16.8px\;" />\n<span style="font-family: tahoma\; font-size: 16.8px\;">By attending\, you consent to the use of event photos and videos in future Greater Perimeter Chamber marketing.</span><br style="font-family: tahoma\; font-size: 16.8px\;" />\n<br style="font-family: tahoma\; font-size: 16.8px\;" />\n<span style="font-family: tahoma\; font-size: 16.8px\;">Speaker Disclaimer</span><br style="font-family: tahoma\; font-size: 16.8px\;" />\n<span style="font-family: tahoma\; font-size: 16.8px\;">The views shared by event speakers are their own and do not necessarily reflect those of the Greater Perimeter Chamber.</span><br style="font-family: tahoma\; font-size: 16.8px\;" />\n<br style="font-family: tahoma\; font-size: 16.8px\;" />\n<span style="font-family: tahoma\; font-size: 16.8px\;">Communication Consent</span><br style="font-family: tahoma\; font-size: 16.8px\;" />\n<span style="font-family: tahoma\; font-size: 16.8px\;">By providing your email\, you agree to receive occasional Chamber updates and event invitations. You may unsubscribe at any time.</span></p>\n\n<p><br />\n<span style="color:#000080\;"><em><span style="font-size:14px\;"><span style="font-family:tahoma\;"><big>Join us for Networking at Noon&mdash\;a relaxed\, midday gathering where Greater Perimeter professionals connect\, share ideas\, and build meaningful business relationships over lunch.</big></span></span></em></span></p>\n</div>\n</div>\n</div>\n</div>\n\n<div class="mb-2 flex gap-3 empty:hidden -ml-2">\n<div class="items-center justify-start rounded-xl p-1 flex">\n<div class="flex items-center">&nbsp\;</div>\n</div>\n</div>\n
LOCATION:Big Play Entertainment Center 2480 Mt. Vernon Road Dunwoody\, GA 30338
UID:e.569.18037
SEQUENCE:3
DTSTAMP:20260426T031358Z
URL:https://business.greaterperimeterchamber.com/events/details/networking-noon-big-play-18037
END:VEVENT

END:VCALENDAR
