BEGIN:VCALENDAR
VERSION:2.0
PRODID:-//ChamberMaster//Event Calendar 2.0//EN
METHOD:PUBLISH
X-PUBLISHED-TTL:P3D
REFRESH-INTERVAL:P3D
CALSCALE:GREGORIAN
BEGIN:VEVENT
DTSTART:20240425T153000Z
DTEND:20240425T170000Z
X-MICROSOFT-CDO-ALLDAYEVENT:FALSE
SUMMARY:Networking at Noon
DESCRIPTION:Join the Chamber and members for a lunch at Networking at Noon. Bring plenty of business cards\, present your business and grow your network!\n\n\n\nThe networking begins as soon as you arrive with a short period of open networking. Each attendee will have the opportunity during lunch to introduce himself/herself and their business with a one-minute "elevator pitch." This is a great time to tell us about who you are\, what your business does\, and who would be a great connection for you. \n\n\n\nTwo members are randomly selected at the end of the event to have a 4-Minute presentation at the next month's meeting. Each attendee is also guaranteed two contacts from drawing out of the group's business cards. Afterward\, the contact information of everyone present at the event will be shared with all attendees for network strengthening purposes. \n\n\n\nNetworking at Noon is a wonderful opportunity to enjoy a friendly and laid-back setting and walk away with new connections!
X-ALT-DESC;FMTTYPE=text/html:<span style="color:#000000\;">Join the Chamber and members for a lunch at Networking at Noon. Bring plenty of business cards\, present your business and grow your network!<br />\n<br />\nThe networking begins as soon as you arrive with a short period of open networking. Each attendee will have the opportunity during lunch to introduce himself/herself and their business with a one-minute &quot\;elevator pitch.&quot\; This is a great time to tell us about who you are\, what your business does\, and who would be a great connection for you.&nbsp\;<br />\n<br />\nTwo members are randomly selected at the end of the event to have a 4-Minute presentation at the next month&#39\;s meeting. Each attendee is also guaranteed two contacts from drawing out of the group&#39\;s business cards.&nbsp\;Afterward\, the contact information of everyone present at the event will be shared with all attendees for network strengthening purposes.&nbsp\;<br font-size:="" style="color: rgb(51\, 51\, 51)\; font-family: sans-serif\, Arial\, Verdana\, " trebuchet="" />\n<br font-size:="" style="color: rgb(51\, 51\, 51)\; font-family: sans-serif\, Arial\, Verdana\, " trebuchet="" />\nNetworking at Noon is a wonderful opportunity to enjoy a friendly and laid-back setting and walk away with new connections!</span>
LOCATION:Sandy Springs Perimeter Chamber Office 1000 Abernathy Road Building 400 Suite L-10 Ground Floor right next to the building entrance. Park in parking deck take elevator to Bluebird Level. Walk through the garage to the entrance of the building.
UID:e.569.12408
SEQUENCE:3
DTSTAMP:20260419T143544Z
URL:https://business.greaterperimeterchamber.com/events/details/networking-at-noon-12408
END:VEVENT

END:VCALENDAR
