BEGIN:VCALENDAR
VERSION:2.0
PRODID:-//ChamberMaster//Event Calendar 2.0//EN
METHOD:PUBLISH
X-PUBLISHED-TTL:P3D
REFRESH-INTERVAL:P3D
CALSCALE:GREGORIAN
BEGIN:VEVENT
DTSTART:20240117T220000Z
DTEND:20240118T000000Z
X-MICROSOFT-CDO-ALLDAYEVENT:FALSE
SUMMARY:Multi-Chamber Mixer
DESCRIPTION:Looking for new networking opportunities in 2024? Look no further! We have teamed up with the Brookhaven and Perimeter Chambers for a Multi-Chamber Mixer at Look Dine-In Cinemas in Brookhaven. \n\n\n\nMulti-Chamber events are the perfect opportunity for you to extend your networking reach with members from the surrounding Chambers of Commerce. Bring your business cards and promotional materials to share! \n\n\n\nA drink and appetizers are included with the purchase of your ticket. If you choose to stay after the event to see a movie\, there is no charge!
X-ALT-DESC;FMTTYPE=text/html:Looking for new networking opportunities in 2024? Look no further! We have teamed up with the Brookhaven and Perimeter Chambers for a Multi-Chamber Mixer at Look Dine-In Cinemas in Brookhaven.&nbsp\;<br />\n<br />\nMulti-Chamber events are the perfect opportunity for you to extend your networking reach with members from the surrounding Chambers of Commerce. Bring your business cards and promotional materials to share!&nbsp\;<br />\n<br />\nA drink and appetizers are included with the purchase of your ticket. If you choose to stay after the event to see a movie\, there is no charge!&nbsp\;
LOCATION:Look Dine-In Cinemas 1004 Town Blvd\, Brookhaven\, GA. 30319
UID:e.569.12402
SEQUENCE:3
DTSTAMP:20260419T194633Z
URL:https://business.greaterperimeterchamber.com/events/details/multi-chamber-mixer-12402
END:VEVENT

END:VCALENDAR
