BEGIN:VCALENDAR
VERSION:2.0
PRODID:-//ChamberMaster//Event Calendar 2.0//EN
METHOD:PUBLISH
X-PUBLISHED-TTL:P3D
REFRESH-INTERVAL:P3D
CALSCALE:GREGORIAN
BEGIN:VEVENT
DTSTART:20240312T150000Z
DTEND:20240312T170000Z
X-MICROSOFT-CDO-ALLDAYEVENT:FALSE
SUMMARY:Member Orientation
DESCRIPTION:Members agree that the key to leveraging your membership at the Sandy Springs Perimeter Chamber is to first understand all that your membership offers you and our Member Orientation is the best first step to do that. \n\n\n\nThis event is recommended for New Members\, New company Representatives\, and Members that would like a refresher. \n\n\n\n You are invited to join us and meet our staff\, learn about Sandy Springs Chamber programs/committees\, and the benefits of your membership that provide opportunity\, such as:\n\n	Chamber Overview\n	Business Building and Networking \n	Education and Professional Development \n	Exposure and Recognition on Chamber Website \n	Small Business Initiatives
X-ALT-DESC;FMTTYPE=text/html:Members agree that the key to leveraging your membership at the Sandy Springs Perimeter Chamber is to first understand all that your membership offers you and our Member Orientation is the best first step to do that.&nbsp\;<br />\n<br />\nThis event is recommended for New Members\, New company Representatives\, and Members that would like a refresher.&nbsp\;<br />\n<br />\n&nbsp\;You are invited to join us and meet our staff\, learn about Sandy Springs Chamber programs/committees\, and the benefits of your membership that provide opportunity\, such as:\n<ul>\n	<li>Chamber Overview</li>\n	<li>Business Building and Networking&nbsp\;</li>\n	<li>Education and Professional Development&nbsp\;</li>\n	<li>Exposure and Recognition on Chamber Website&nbsp\;</li>\n	<li>Small Business Initiatives&nbsp\;</li>\n</ul>\n
LOCATION:Sandy Springs Perimeter Chamber 1000 Abernathy Road\, Suite L-10 Sandy Springs\, GA. 30328 **Lobby Level\, Free Parking in Parking Deck**
UID:e.569.12429
SEQUENCE:3
DTSTAMP:20260419T161448Z
URL:https://business.greaterperimeterchamber.com/events/details/member-orientation-12429
END:VEVENT

END:VCALENDAR
