BEGIN:VCALENDAR
VERSION:2.0
PRODID:-//ChamberMaster//Event Calendar 2.0//EN
METHOD:PUBLISH
X-PUBLISHED-TTL:P3D
REFRESH-INTERVAL:P3D
CALSCALE:GREGORIAN
BEGIN:VEVENT
DTSTART:20240509T153000Z
DTEND:20240509T170000Z
X-MICROSOFT-CDO-ALLDAYEVENT:FALSE
SUMMARY:Health and Wellness: Relax and Recharge at Work
DESCRIPTION:Join us for a rejuvenating session of "Chair Yoga" designed to promote mental wellness during Mental Health Awareness Month. Discover practical tips to unwind and find balance in the midst of your busy workday. Learn simple yet effective yoga poses that can be done right from your chair\, helping to alleviate stress\, improve focus\, and boost overall well-being. Take a break from the demands of the day and invest in your mental health with this empowering wellness event.\n\n\n\nThere will be swag bags\, raffle prizes\, lunch\, and more.
X-ALT-DESC;FMTTYPE=text/html:Join us for a rejuvenating session of &quot\;Chair Yoga&quot\; designed to promote mental wellness during Mental Health Awareness Month. Discover practical tips to unwind and find balance in the midst of your busy workday. Learn simple yet effective yoga poses that can be done right from your chair\, helping to alleviate stress\, improve focus\, and boost overall well-being. Take a break from the demands of the day and invest in your mental health with this empowering wellness event.<br />\n<br />\nThere will be swag bags\, raffle prizes\, lunch\, and more.&nbsp\;
LOCATION:Joiful Yoga 205 Hilderbrand Dr. Sandy Springs\, GA. 30328
UID:e.569.12442
SEQUENCE:3
DTSTAMP:20260419T130936Z
URL:https://business.greaterperimeterchamber.com/events/details/health-and-wellness-relax-and-recharge-at-work-12442
END:VEVENT

END:VCALENDAR
