BEGIN:VCALENDAR
VERSION:2.0
PRODID:-//ChamberMaster//Event Calendar 2.0//EN
METHOD:PUBLISH
X-PUBLISHED-TTL:P3D
REFRESH-INTERVAL:P3D
CALSCALE:GREGORIAN
BEGIN:VEVENT
DTSTART:20250220T163000Z
DTEND:20250220T180000Z
X-MICROSOFT-CDO-ALLDAYEVENT:FALSE
SUMMARY:Greater Perimeter Chamber Inaugural Annual Meeting: Defining What We're FOR
DESCRIPTION:Join us for the inaugural Greater Perimeter Chamber Annual Meeting on Thursday\, February 20\, 2025\, from 11:30 AM to 1:00 PM\, as we celebrate the launch of a new era in business leadership across Sandy Springs\, Dunwoody\, and the broader Perimeter region. This pivotal event will unveil our bold vision for the future and clarify what the Chamber stands FOR: business growth\, innovation\, and collaboration.\n\nWhy Attend:\n\n\n	\n	Be inspired by visionary keynote speaker Troy Fountain\n	\n	\n	Connect with influential business leaders from the Perimeter region\n	\n	\n	Discover how the Chamber is redefining community impact to empower your business\n	\n\n\nAbout Our Keynote Speaker: Troy Fountain | President\, Wiregrass Foundation | Speakers Bureau\, The FOR Company\n\nTroy Fountain is the President of the Wiregrass Foundation in Dothan\, Alabama\, an organization dedicated to improving communities\, fostering young leaders\, and supporting non-profits. As the co-founder and former COO of The FOR Company\, Troy is a renowned coach\, speaker\, and consultant who leverages FOR leadership strategies to drive positive change. With experience spanning ministry\, education\, and business\, Troy brings a unique perspective on aligning purpose with profit to achieve lasting impact.\n\nHe currently serves on the board of directors for the Dothan Area Chamber of Commerce\, the SmartBank Advisory Board\, and is a business mentor with the MIT Venture Mentoring Service. Over his career\, Troy has successfully coached numerous organizations\, helping them grow and achieve their goals.\n\nTroy holds a degree from the University of Alabama and a Master's in Theology from Dallas Theological Seminary. He resides in Dothan with his wife\, Stacy\, and their four children.\n\nKeynote Topic: "Know What You're FOR: A Growth Strategy for Work\, and an Even Better Strategy for Life"\n\nIn this engaging keynote\, Troy Fountain will challenge leaders to shift their focus from being the best in the world to being the best FOR the world. Participants will gain valuable insights into balancing purpose and profit\, aligning their organization's mission with a vision for greater impact. By addressing two fundamental questions\, leaders can transform their business and community impact:\n\n\n	\n	What are you FOR?\n	\n	\n	How are you demonstrating it?\n	\n\n\nKey takeaways include:\n\n\n	\n	Being FOR the Customer: Creating a culture that champions customer success\n	\n	\n	Being FOR the Team: Building an empowered and engaged workforce\n	\n	\n	Being FOR the Community: Making a meaningful impact in the regions we serve\n	\n	\n	Being FOR YOU: Prioritizing personal purpose and well-being\n	\n\n\nIn a hyper-critical world often defined by what it's against\, this session will inspire attendees to define their organizations by what they stand FOR.\n\nDon't miss your opportunity to be part of this transformative moment in the Greater Perimeter Chamber's history. RSVP today and join us on February 20\, 2025. Let's shape the future of our business community together!\n \n\n\n\n\n\n\nEvent Reminders:\n\nSponsorship Opportunities:\n\nDiscover the benefits of sponsoring this event by exploring our 2025 Total Resource Campaign. Details are available on page 5.\n\nPre-Registration:\n\nWe kindly ask all attendees to register in advance\, as we are unable to accommodate walk-ins. Thank you for your understanding that all registrations are final and non-refundable.\n\nPhoto/Video Release:\n\nBy attending\, you consent to the use of event photos and videos for future Greater Perimeter Chamber marketing materials. Your support is greatly appreciated!\n\nSpeaker Disclaimer:\n\nThe views and information shared by event speakers are their own and do not reflect the endorsement or verification of the Greater Perimeter Chamber.\n\nCommunication Consent:\n\nBy providing your email\, you agree to receive occasional updates and event invitations from the Chamber. You may unsubscribe at any time.
X-ALT-DESC;FMTTYPE=text/html:<div class="flex max-w-full flex-col flex-grow">\n<div class="min-h-8 text-message flex w-full flex-col items-end gap-2 whitespace-normal break-words text-start [.text-message+&amp\;]:mt-5" data-message-author-role="assistant" data-message-id="68ffbbed-1f26-4e36-9a4d-03dadabd2653" data-message-model-slug="gpt-4o" dir="auto">\n<div class="flex w-full flex-col gap-1 empty:hidden first:pt-[3px]">\n<div class="markdown prose w-full break-words dark:prose-invert light">\n<h3 data-pm-slice="1 1 []">Join us for the inaugural Greater Perimeter Chamber Annual Meeting on <strong>Thursday\, February 20\, 2025\, from 11:30 AM to 1:00 PM</strong>\, as we celebrate the launch of a new era in business leadership across Sandy Springs\, Dunwoody\, and the broader Perimeter region. This pivotal event will unveil our bold vision for the future and clarify what the Chamber stands FOR: business growth\, innovation\, and collaboration.</h3>\n\n<h3><strong>Why Attend:</strong></h3>\n\n<ul data-spread="false">\n	<li>\n	<h3><strong>Be inspired by visionary keynote speaker Troy Fountain</strong></h3>\n	</li>\n	<li>\n	<h3><strong>Connect with influential business leaders from the Perimeter region</strong></h3>\n	</li>\n	<li>\n	<h3><strong>Discover how the Chamber is redefining community impact to empower your business</strong></h3>\n	</li>\n</ul>\n\n<h3><strong>About Our Keynote Speaker:</strong> <strong>Troy Fountain</strong> | <strong>President\, Wiregrass Foundation</strong> | <strong>Speakers Bureau\, The FOR Company</strong></h3>\n\n<h3>Troy Fountain is the President of the <a href="https://wiregrassfoundation.org/">Wiregrass Foundation</a> in Dothan\, Alabama\, an organization dedicated to improving communities\, fostering young leaders\, and supporting non-profits. As the co-founder and former COO of <a href="https://jeffhenderson.com/">The FOR Company</a>\, Troy is a renowned coach\, speaker\, and consultant who leverages FOR leadership strategies to drive positive change. With experience spanning ministry\, education\, and business\, Troy brings a unique perspective on aligning purpose with profit to achieve lasting impact.</h3>\n\n<h3>He currently serves on the board of directors for the Dothan Area Chamber of Commerce\, the SmartBank Advisory Board\, and is a business mentor with the MIT Venture Mentoring Service. Over his career\, Troy has successfully coached numerous organizations\, helping them grow and achieve their goals.</h3>\n\n<h3>Troy holds a degree from the University of Alabama and a Master&rsquo\;s in Theology from Dallas Theological Seminary. He resides in Dothan with his wife\, Stacy\, and their four children.</h3>\n\n<h3><strong>Keynote Topic: &ldquo\;Know What You&rsquo\;re FOR: A Growth Strategy for Work\, and an Even Better Strategy for Life&rdquo\;</strong></h3>\n\n<h3>In this engaging keynote\, Troy Fountain will challenge leaders to shift their focus from being the best in the world to being the best FOR the world. Participants will gain valuable insights into balancing purpose and profit\, aligning their organization&rsquo\;s mission with a vision for greater impact. By addressing two fundamental questions\, leaders can transform their business and community impact:</h3>\n\n<ol data-spread="false" start="1">\n	<li>\n	<h3>What are you FOR?</h3>\n	</li>\n	<li>\n	<h3>How are you demonstrating it?</h3>\n	</li>\n</ol>\n\n<h3>Key takeaways include:</h3>\n\n<ul data-spread="false">\n	<li>\n	<h3><strong>Being FOR the Customer</strong>: Creating a culture that champions customer success</h3>\n	</li>\n	<li>\n	<h3><strong>Being FOR the Team</strong>: Building an empowered and engaged workforce</h3>\n	</li>\n	<li>\n	<h3><strong>Being FOR the Community</strong>: Making a meaningful impact in the regions we serve</h3>\n	</li>\n	<li>\n	<h3><strong>Being FOR YOU</strong>: Prioritizing personal purpose and well-being</h3>\n	</li>\n</ul>\n\n<h3>In a hyper-critical world often defined by what it&rsquo\;s against\, this session will inspire attendees to define their organizations by what they stand FOR.</h3>\n\n<h3>Don&#39\;t miss your opportunity to be part of this transformative moment in the Greater Perimeter Chamber&#39\;s history. <strong>RSVP today and join us on February 20\, 2025.</strong> Let&#39\;s shape the future of our business community together!</h3>\n&nbsp\;\n\n<hr />\n<h3><br />\n<br />\n<strong>Event Reminders:</strong></h3>\n\n<h3><strong>Sponsorship Opportunities:</strong><br />\nDiscover the benefits of sponsoring this event by exploring our <strong><a href="https://www.canva.com/design/DAGTK2JDv_c/ujdpeB4WWQTi-BE052UdGA/view?utm_content=DAGTK2JDv_c&amp\;utm_campaign=designshare&amp\;utm_medium=link&amp\;utm_source=editor">2025 Total Resource Campaign</a></strong>. Details are available on page 5.</h3>\n\n<h3><strong>Pre-Registration:</strong><br />\nWe kindly ask all attendees to register in advance\, as we are unable to accommodate walk-ins. Thank you for your understanding that all registrations are final and non-refundable.</h3>\n\n<h3><strong>Photo/Video Release:</strong><br />\nBy attending\, you consent to the use of event photos and videos for future Greater Perimeter Chamber marketing materials. Your support is greatly appreciated!</h3>\n\n<h3><strong>Speaker Disclaimer:</strong><br />\nThe views and information shared by event speakers are their own and do not reflect the endorsement or verification of the Greater Perimeter Chamber.</h3>\n\n<h3><strong>Communication Consent:</strong><br />\nBy providing your email\, you agree to receive occasional updates and event invitations from the Chamber. You may unsubscribe at any time.</h3>\n\n<h3>&nbsp\;</h3>\n</div>\n</div>\n</div>\n</div>\n
LOCATION:Atlanta Marriott Perimeter Center 246 Perimeter Center Pkwy NE Atlanta\, GA 30346 (770) 394-6500
UID:e.569.12806
SEQUENCE:3
DTSTAMP:20260424T121505Z
URL:https://business.greaterperimeterchamber.com/events/details/greater-perimeter-chamber-inaugural-annual-meeting-defining-what-we-re-for-12806
END:VEVENT

END:VCALENDAR
