BEGIN:VCALENDAR
VERSION:2.0
PRODID:-//ChamberMaster//Event Calendar 2.0//EN
METHOD:PUBLISH
X-PUBLISHED-TTL:P3D
REFRESH-INTERVAL:P3D
CALSCALE:GREGORIAN
BEGIN:VEVENT
DTSTART:20260807T210000Z
DTEND:20260807T230000Z
X-MICROSOFT-CDO-ALLDAYEVENT:FALSE
SUMMARY:Game Night with Wine
DESCRIPTION:Bring your friends or make a new one. Feel free to come as comfy as you like (within reason). We'll play card or board games and of course drink wine. Enjoy special prices on glasses of wine\, camaraderie and witty repertoire.
X-ALT-DESC;FMTTYPE=text/html:Bring your friends or make a new one. Feel free to come as comfy as you like (within reason). We&#39\;ll play card or board games and of course drink wine. Enjoy special prices on glasses of wine\, camaraderie and witty repertoire.&nbsp\;
LOCATION:BEER & WINE CRAFT 203 Hilderbrand Drive Sandy Springs\, GA 30328
UID:e.569.13923
SEQUENCE:3
DTSTAMP:20260419T131602Z
URL:https://business.greaterperimeterchamber.com/events/details/game-night-with-wine-08-07-2026-13923
END:VEVENT

END:VCALENDAR
