BEGIN:VCALENDAR
VERSION:2.0
PRODID:-//ChamberMaster//Event Calendar 2.0//EN
METHOD:PUBLISH
X-PUBLISHED-TTL:P3D
REFRESH-INTERVAL:P3D
CALSCALE:GREGORIAN
BEGIN:VEVENT
DTSTART:20260827T233000Z
DTEND:20260828T013000Z
X-MICROSOFT-CDO-ALLDAYEVENT:FALSE
SUMMARY:Family Feud
DESCRIPTION:Grab your gloves. It's time for a little family feud.
X-ALT-DESC;FMTTYPE=text/html:Grab your gloves. It&#39\;s time for a little family feud.
LOCATION:5825 Roswell Rd NE\, Sandy Springs\, GA 30328
UID:e.569.15412
SEQUENCE:3
DTSTAMP:20260419T150037Z
URL:https://business.greaterperimeterchamber.com/events/details/family-feud-08-27-2026-15412
END:VEVENT

END:VCALENDAR
