BEGIN:VCALENDAR
VERSION:2.0
PRODID:-//ChamberMaster//Event Calendar 2.0//EN
METHOD:PUBLISH
X-PUBLISHED-TTL:P3D
REFRESH-INTERVAL:P3D
CALSCALE:GREGORIAN
BEGIN:VEVENT
DTSTART;VALUE=DATE:20251130
DTEND;VALUE=DATE:20260101
TRANSP:TRANSPARENT
X-MICROSOFT-CDO-ALLDAYEVENT:TRUE
SUMMARY:Dunwoody Holiday Art Trees Program
DESCRIPTION:Celebrate the season while experiencing Dunwoody's vibrant creative community.\n\nParticipating hotels will display a professionally decorated holiday tree featuring artwork in a variety of mediums (paintings\, ornaments\, small sculptures\, mixed media pieces).\n\nVisitors\, travelers\, and hotel guests will have the opportunity to purchase artwork.\n\nProceeds support both the artists and Create Dunwoody's mission to provide arts and culture for economic development. This program will run from mid-November through December.
X-ALT-DESC;FMTTYPE=text/html:<p style="text-align:center">Celebrate the season while experiencing Dunwoody&rsquo\;s vibrant creative community.<br />\nParticipating hotels will display a professionally decorated holiday tree featuring artwork in a variety of mediums (paintings\, ornaments\, small sculptures\, mixed media pieces).<br />\nVisitors\, travelers\, and hotel guests will have the opportunity to purchase artwork.<br />\nProceeds support both the artists and Create Dunwoody&rsquo\;s mission to provide arts and culture for economic development. This program will run from mid-November through December.<br />\n&nbsp\;</p>\n
LOCATION:Participating hotels: Hampton Inn Perimeter Crowne Plaza Ravinia Marriott Perimeter
UID:e.569.16055
SEQUENCE:3
DTSTAMP:20260419T114241Z
URL:https://business.greaterperimeterchamber.com/events/details/dunwoody-holiday-art-trees-program-16055
END:VEVENT

END:VCALENDAR
