BEGIN:VCALENDAR
VERSION:2.0
PRODID:-//ChamberMaster//Event Calendar 2.0//EN
METHOD:PUBLISH
X-PUBLISHED-TTL:P3D
REFRESH-INTERVAL:P3D
CALSCALE:GREGORIAN
BEGIN:VEVENT
DTSTART:20260710T233000Z
DTEND:20260711T023000Z
X-MICROSOFT-CDO-ALLDAYEVENT:FALSE
SUMMARY:DJ night at Baraonda
DESCRIPTION:We'll be a having DJ Nattmusic perform a set for a lively Friday at Baraonda starting 7:30pm\, every FRIDAY! See you there!
X-ALT-DESC;FMTTYPE=text/html:<div class="eventdate" style="box-sizing: border-box\; color: var(--baraondagreen)\; margin-top: 0px\; font-family: &quot\;Crimson Text&quot\;\, sans-serif\; font-size: 20px\; font-weight: 600\; background-color: rgb(255\, 255\, 255)\;"><span style="color: var(--baraondagreen)\; letter-spacing: 0.5px\;">We&#39\;ll be a having DJ Nattmusic perform a set for a lively Friday at Baraonda starting 7:30pm\, every FRIDAY!&nbsp\;See you there!</span></div>\n
LOCATION:Baraonda Ristorante 6075 Roswell Road Suite 100 Sandy Springs\, GA 30328
UID:e.569.13509
SEQUENCE:3
DTSTAMP:20260419T163721Z
URL:https://business.greaterperimeterchamber.com/events/details/dj-night-at-baraonda-07-10-2026-13509
END:VEVENT

END:VCALENDAR
