BEGIN:VCALENDAR
VERSION:2.0
PRODID:-//ChamberMaster//Event Calendar 2.0//EN
METHOD:PUBLISH
X-PUBLISHED-TTL:P3D
REFRESH-INTERVAL:P3D
CALSCALE:GREGORIAN
BEGIN:VEVENT
DTSTART:20250228T150000Z
DTEND:20250228T170000Z
X-MICROSOFT-CDO-ALLDAYEVENT:FALSE
SUMMARY:DIY Social Media Content Creation for Small Business Owners
DESCRIPTION:MORE applicable workshop and specifically to show business owners how to:\n1) The best Social Media Tools in 2025\n\n2) Creating STRATEGIC content that converts to business opportunities\n\n3) How to create a Content Calendar to create efficiency. How to best leverage your precious time.\n\n\n\nAbout Our Instructor\n\n\n\nJulia Maldonado\,Agency Owner & Social Media Manager\, Julia Maldonado\, has over 25 years of experience in Marketing and Advertising\, spanning across different corporate industries\, including software\, technology\, real estate\, retail\, legal and 15+ years in website design and social media influencing. Julia left corporate in 2017 to pursue freelancing on her own and developed her own agency\, InTandem Digital Consulting\; an online boutique\, digital marketing agency\, based in Atlanta\, Georgia. They offer a wide variety of custom\, digital services like website design\, branding identity\, content strategy\, customer experience strategy and social media management. They focus on launching small business owner's online presence and also on assisting cause-crusading nonprofits who need to transform and transition into the digital age. Julia has also successfully published two books-- Housing Humans by Eugene E. Jones\, Jr. and a children's book\, Hold You by Craig Lucie. Julia is working on a third book now to launch this fall about American Flat Track Racer\, Tim Estenson and his racing empire\, Estenson Racing. All books are available on Amazon\, Target.com\, Walmart.com\, and Barnes & Noble.
X-ALT-DESC;FMTTYPE=text/html:<p style="box-sizing: border-box\; border-width: 0px\; border-style: solid\; border-color: currentcolor\; margin: 0px\; font-family: var(--ff-body)\; font-size: var(--fs-xl)\; line-height: var(--lh-xl)\; color: var(--brand-secondaryGraphite)\; margin-block-start: var(--wysiwyg-gap-size)\; margin-block-end: var(--wysiwyg-gap-size)\;">MORE applicable workshop and specifically to show business owners how to:</p>\n1) The best Social Media Tools in 2025<br />\n2) Creating STRATEGIC content that converts to business opportunities<br />\n3) How to create a Content Calendar to create efficiency. How to best leverage your precious time.<br />\n<br />\nAbout Our Instructor<br />\n<br />\nJulia Maldonado\,Agency Owner &amp\; Social Media Manager\, Julia Maldonado\, has over 25 years of experience in Marketing and Advertising\, spanning across different corporate industries\, including software\, technology\, real estate\, retail\, legal and 15+ years in website design and social media influencing. Julia left corporate in 2017 to pursue freelancing on her own and developed her own agency\, InTandem Digital Consulting\; an online boutique\, digital marketing agency\, based in Atlanta\, Georgia. They offer a wide variety of custom\, digital services like website design\, branding identity\, content strategy\, customer experience strategy and social media management. They focus on launching small business owner&#39\;s online presence and also on assisting cause-crusading nonprofits who need to transform and transition into the digital age. Julia has also successfully published two books-- Housing Humans by Eugene E. Jones\, Jr. and a children&#39\;s book\, Hold You by Craig Lucie. Julia is working on a third book now to launch this fall about American Flat Track Racer\, Tim Estenson and his racing empire\, Estenson Racing. All books are available on Amazon\, Target.com\, Walmart.com\, and Barnes &amp\; Noble.
LOCATION:Score.org Virtual
UID:e.569.12912
SEQUENCE:3
DTSTAMP:20260424T121234Z
URL:https://business.greaterperimeterchamber.com/events/details/diy-social-media-content-creation-for-small-business-owners-12912
END:VEVENT

END:VCALENDAR
