BEGIN:VCALENDAR
VERSION:2.0
PRODID:-//ChamberMaster//Event Calendar 2.0//EN
METHOD:PUBLISH
X-PUBLISHED-TTL:P3D
REFRESH-INTERVAL:P3D
CALSCALE:GREGORIAN
BEGIN:VEVENT
DTSTART:20250216T000000Z
DTEND:20250216T040000Z
X-MICROSOFT-CDO-ALLDAYEVENT:FALSE
SUMMARY:DEREK WARFIELD & THE YOUNG WOLFE TONES IN CONCERT
DESCRIPTION:Derek Warfield brings his band The Young Wolfe Tones back to the intimate setting of Thos. O'Reilly's Public House. Derek Warfield's lifelong passion for engaging people in the music and story of Ireland is also very present in the other band members: "Communication with a live audience through music is what I believed to be of primary importance when I founded the Old Wolfe Tones in 1963. In performing with The Young Wolfe Tones\, I continue to communicate with audiences while also passing on an important tradition to a new generation. But perhaps most importantly\, it has been fun and enjoyable and every performance gets better. The experience has reinvigorated me and given the young players and singers the opportunity to display their skills and talents around the world"
X-ALT-DESC;FMTTYPE=text/html:<span style="font-size: 16px\; caret-color: rgb(0\, 52\, 97)\; color: rgb(0\, 52\, 97)\; font-family: &quot\;Mark W05 Book&quot\;\, sans-serif\;">Derek Warfield brings his band The Young Wolfe Tones back to the intimate setting of Thos. O&#39\;Reilly&#39\;s Public House. Derek Warfield&rsquo\;s lifelong passion for engaging people in the music and story of Ireland is also very present in the other band members: &ldquo\;Communication with a live audience through music is what I believed to be of primary importance when I founded the Old Wolfe Tones in 1963. In performing with The Young Wolfe Tones\, I continue to communicate with audiences while also passing on an important tradition to a new generation. But perhaps most importantly\, it has been fun and enjoyable and every performance gets better. The experience has reinvigorated me and given the young players and singers the opportunity to display their skills and talents around the world&rdquo\;</span>
LOCATION:O'Reilly's Public House Address: 227 Sandy Springs PL\, Ste 416
UID:e.569.13003
SEQUENCE:3
DTSTAMP:20260424T121208Z
URL:https://business.greaterperimeterchamber.com/events/details/derek-warfield-the-young-wolfe-tones-in-concert-13003
END:VEVENT

END:VCALENDAR
