BEGIN:VCALENDAR
VERSION:2.0
PRODID:-//ChamberMaster//Event Calendar 2.0//EN
METHOD:PUBLISH
X-PUBLISHED-TTL:P3D
REFRESH-INTERVAL:P3D
CALSCALE:GREGORIAN
BEGIN:VEVENT
DTSTART:20240516T220000Z
DTEND:20240517T010000Z
X-MICROSOFT-CDO-ALLDAYEVENT:FALSE
SUMMARY:Come Socialize with SSPC & Buckhead Business Association at the Palm Restaurant
DESCRIPTION:Indulge in complimentary light bites from The Palm\, our treat! Enjoy easy parking with complimentary valet service. And grab drink tickets if you're among the first 30 guests! Plus\, don't miss our raffle! Your support goes to Georgia's Alliance for Breast Cancer. Win prizes and support a worthy cause! Drinks sponsored by Kim Crahan of Dorsey Alston Buckhead.
X-ALT-DESC;FMTTYPE=text/html:<span class="OYPEnA text-decoration-none text-strikethrough-none">Indulge in complimentary light bites from The Palm\, our treat! Enjoy easy parking with compliment</span><span class="OYPEnA text-decoration-none text-strikethrough-none">ary valet service. And grab drink tickets if you&#39\;re among the first 30 guests! Plus\, don&#39\;t miss our raffle! Your support goes to Georgia&#39\;s Alliance for Breast Cancer. Win prizes and support a worthy cause! Drinks sponsored by Kim Crahan of Dorsey Alston Buckhead.</span>
LOCATION:The Palm: 3391 Peachtree Road NE\, Atlanta 30326
UID:e.569.12444
SEQUENCE:3
DTSTAMP:20260419T125849Z
URL:https://business.greaterperimeterchamber.com/events/details/come-socialize-with-sspc-buckhead-business-association-at-the-palm-restaurant-12444
END:VEVENT

END:VCALENDAR
