BEGIN:VCALENDAR
VERSION:2.0
PRODID:-//ChamberMaster//Event Calendar 2.0//EN
METHOD:PUBLISH
X-PUBLISHED-TTL:P3D
REFRESH-INTERVAL:P3D
CALSCALE:GREGORIAN
BEGIN:VEVENT
DTSTART:20240430T123000Z
DTEND:20240430T140000Z
X-MICROSOFT-CDO-ALLDAYEVENT:FALSE
SUMMARY:Coffee & Contacts
DESCRIPTION:Coffee & Contacts is a morning meeting on the last Tuesday of every month between the Sandy Springs & Brookhaven Chambers hosted at a member's business. Attendees will network and learn more about fellow attendees and how their businesses may best complement each other. \n\n\n\nDuring the event\, attendees use their one-minute "elevator pitch" to describe their business to everyone in attendance. Afterward\, the contact information of everyone present at the event will be shared with all attendees for network strengthening purposes. \n\n\n\nEnjoy coffee\, light breakfast\, and meet potential clients/partners all before your workday begins. Bring plenty of business cards\, present your business and grow your network.
X-ALT-DESC;FMTTYPE=text/html:<p style="text-align: center\;"><span style="font-size:12px\;"><span style="color:#000000\;"><span background-color:="" font-size:="" trebuchet="">Coffee &amp\; Contacts is a morning meeting on the last Tuesday of every month between the Sandy Springs &amp\; Brookhaven Chambers hosted at a member&#39\;s business. Attendees will network and learn more about fellow attendees and how their businesses may best complement each other.&nbsp\;<br />\n<br />\nDuring the event\, attendees use their one-minute &quot\;elevator pitch&quot\; to describe their business to everyone in attendance.&nbsp\;Afterward\, the contact information of everyone present at the event will be shared with all attendees for network strengthening purposes.&nbsp\;<br />\n<br />\nEnjoy coffee\, light breakfast\, and meet potential clients/partners all before your workday begins. Bring plenty of business cards\,</span><span font-size:="" trebuchet="">&nbsp\;present your business and grow your network.&nbsp\;</span></span></span></p>\n
LOCATION:Sandy Springs Perimeter Chamber Office 1000 Abernathy Road Building 400 Suite L-10 Ground Floor right next to the building entrance. Park in parking deck take elevator to Bluebird Level. Walk through the garage to the entrance of the building.
UID:e.569.12417
SEQUENCE:3
DTSTAMP:20260421T104255Z
URL:https://business.greaterperimeterchamber.com/events/details/coffee-contacts-12417
END:VEVENT

END:VCALENDAR
