BEGIN:VCALENDAR
VERSION:2.0
PRODID:-//ChamberMaster//Event Calendar 2.0//EN
METHOD:PUBLISH
X-PUBLISHED-TTL:P3D
REFRESH-INTERVAL:P3D
CALSCALE:GREGORIAN
BEGIN:VEVENT
DTSTART:20250213T223000Z
DTEND:20250214T010000Z
X-MICROSOFT-CDO-ALLDAYEVENT:FALSE
SUMMARY:Chick-fil-A Perimeter Pointe Daddy Daughter Date Night
DESCRIPTION:Welcome to Chick-fil-A Perimeter Pointe Daddy Daughter Date Night! Join us for a special evening filled with fun and quality time with your daughter. This in-person event will be held at 1145 Mount Vernon Hwy. Treat your daughter to a memorable night of delicious food\, games\, and bonding. Create lasting memories with your little one at this heartwarming event. Don't miss out on this opportunity to strengthen your father-daughter relationship in a unique and enjoyable way. We can't wait to see you there!
X-ALT-DESC;FMTTYPE=text/html:<span style="color: rgb(111\, 114\, 135)\; font-family: &quot\;Neue Plak&quot\;\, -apple-system\, BlinkMacSystemFont\, Roboto\, &quot\;Helvetica Neue&quot\;\, Helvetica\, Tahoma\, Arial\, sans-serif\; font-size: 16px\;">Welcome to&nbsp\;</span><span style="font-weight: 700\; box-sizing: border-box\; padding-top: 0px\; color: rgb(111\, 114\, 135)\; font-family: &quot\;Neue Plak&quot\;\, -apple-system\, BlinkMacSystemFont\, Roboto\, &quot\;Helvetica Neue&quot\;\, Helvetica\, Tahoma\, Arial\, sans-serif\; font-size: 16px\;">Chick-fil-A Perimeter Pointe Daddy Daughter Date Night</span><span style="color: rgb(111\, 114\, 135)\; font-family: &quot\;Neue Plak&quot\;\, -apple-system\, BlinkMacSystemFont\, Roboto\, &quot\;Helvetica Neue&quot\;\, Helvetica\, Tahoma\, Arial\, sans-serif\; font-size: 16px\;">! Join us for a special evening filled with fun and quality time with your daughter. This&nbsp\;</span><span style="font-weight: 700\; box-sizing: border-box\; color: rgb(111\, 114\, 135)\; font-family: &quot\;Neue Plak&quot\;\, -apple-system\, BlinkMacSystemFont\, Roboto\, &quot\;Helvetica Neue&quot\;\, Helvetica\, Tahoma\, Arial\, sans-serif\; font-size: 16px\;">in-person</span><span style="color: rgb(111\, 114\, 135)\; font-family: &quot\;Neue Plak&quot\;\, -apple-system\, BlinkMacSystemFont\, Roboto\, &quot\;Helvetica Neue&quot\;\, Helvetica\, Tahoma\, Arial\, sans-serif\; font-size: 16px\;">&nbsp\;event will be held at&nbsp\;</span><span style="font-weight: 700\; box-sizing: border-box\; color: rgb(111\, 114\, 135)\; font-family: &quot\;Neue Plak&quot\;\, -apple-system\, BlinkMacSystemFont\, Roboto\, &quot\;Helvetica Neue&quot\;\, Helvetica\, Tahoma\, Arial\, sans-serif\; font-size: 16px\;">1145 Mount Vernon Hwy</span><span style="color: rgb(111\, 114\, 135)\; font-family: &quot\;Neue Plak&quot\;\, -apple-system\, BlinkMacSystemFont\, Roboto\, &quot\;Helvetica Neue&quot\;\, Helvetica\, Tahoma\, Arial\, sans-serif\; font-size: 16px\;">. Treat your daughter to a memorable night of delicious food\, games\, and bonding. Create lasting memories with your little one at this heartwarming event. Don&#39\;t miss out on this opportunity to strengthen your father-daughter relationship in a unique and enjoyable way. We can&#39\;t wait to see you there!</span>
LOCATION:Chick-fil-a Perimeter Pointe 1145 Mount Vernon Highway Atlanta\, GA 30338
UID:e.569.12920
SEQUENCE:3
DTSTAMP:20260424T120850Z
URL:https://business.greaterperimeterchamber.com/events/details/chick-fil-a-perimeter-pointe-daddy-daughter-date-night-12920
END:VEVENT

END:VCALENDAR
