BEGIN:VCALENDAR
VERSION:2.0
PRODID:-//ChamberMaster//Event Calendar 2.0//EN
METHOD:PUBLISH
X-PUBLISHED-TTL:P3D
REFRESH-INTERVAL:P3D
CALSCALE:GREGORIAN
BEGIN:VEVENT
DTSTART:20250211T230000Z
DTEND:20250212T020000Z
X-MICROSOFT-CDO-ALLDAYEVENT:FALSE
SUMMARY:Atlanta Business Connections
DESCRIPTION:ABC Networking Event\n\nEvent open to all entrepreneurs in Atlanta from all industries and business types\n\nABC Networking is a happy hour open networking event that provides the opportunity to grow your business. You are encouraged to find services/products that will assist you in your own business\, or meet other companies to partner with for referrals. This event provides the space to build strong relationships with other business professionals\, which will in effect improve your product/service to your clients and add value to your business.\n\nhttps://abc-networking.com/\n\n \n\nEvent Tickets Come With\n\n- Free Parking\n\n- Appetizers\n\n- Raffle and Giveaway\n\nBuy Your Tickets Early to Save Money\n\nOnline Ticket: $15\n\nAt Door Ticket: $20\n\n \n\n \n\nSome of the companies who have sponsored ABC Networking\n\nKeller Williams Realty\, GA MLS Real Estate Services\, Mortgage Pro Loan Services\, CGS Waterproofing\, King Roof\, Servpro\, USI Insurance Company\, OnPoint Wealth\, State Farm\, Gwinnett Gladiators\, 28Black\, Altior\, O'Kelley & Sorohan\, Special Needs Respite\, Atlanta Injury Network\, Chiro4Sport\, Frazier & Deeter\, Insperity\, Cutco\, United Community Bank\, All Star Home Inspection\, Capital Restoration\, Health Insurance Solutions\, Gazel Eye Wear\, Fotica Photobooth\, Atlanta Communities Real Estate\, Keller Williams Realty\, Liberty Mutual\, Califino Tequila\, Credit Building Professionals\, Kettlerock Brewing
X-ALT-DESC;FMTTYPE=text/html:<h1 style="font-size: 32px\; margin: 0px\; padding: 0px\; box-sizing: border-box\; font-weight: 700\; letter-spacing: 0.75px\; line-height: 2.5rem\; color: rgb(57\, 54\, 79)\; font-family: &quot\;Neue Plak&quot\;\, -apple-system\, BlinkMacSystemFont\, Roboto\, &quot\;Helvetica Neue&quot\;\, Helvetica\, Tahoma\, Arial\, sans-serif\;">ABC Networking Event</h1>\n\n<h3 style="margin: 0px\; padding: 10px 0px 0px\; box-sizing: border-box\; font-size: 17px\; line-height: 21px\; color: rgb(30\, 10\, 60)\; font-family: &quot\;Neue Plak&quot\;\, -apple-system\, BlinkMacSystemFont\, Roboto\, &quot\;Helvetica Neue&quot\;\, Helvetica\, Tahoma\, Arial\, sans-serif\;">Event open to all entrepreneurs in Atlanta from all industries and business types</h3>\n\n<p style="margin: 0px\; padding: 10px 0px 0px\; box-sizing: border-box\; font-size: 16px\; line-height: 1.5rem\; color: rgb(111\, 114\, 135)\; font-family: &quot\;Neue Plak&quot\;\, -apple-system\, BlinkMacSystemFont\, Roboto\, &quot\;Helvetica Neue&quot\;\, Helvetica\, Tahoma\, Arial\, sans-serif\;">ABC Networking is a happy hour open networking event that provides the opportunity to grow your business. You are encouraged to find services/products that will assist you in your own business\, or meet other companies to partner with for referrals. This event provides the space to build strong relationships with other business professionals\, which will in effect improve your product/service to your clients and add value to your business.</p>\n\n<p style="margin: 0px\; padding: 10px 0px 0px\; box-sizing: border-box\; font-size: 16px\; line-height: 1.5rem\; color: rgb(111\, 114\, 135)\; font-family: &quot\;Neue Plak&quot\;\, -apple-system\, BlinkMacSystemFont\, Roboto\, &quot\;Helvetica Neue&quot\;\, Helvetica\, Tahoma\, Arial\, sans-serif\;"><a data-msys-clicktrack="0" href="https://abc-networking.com/" rel="nofollow noopener noreferrer" style="background-color: transparent\; color: var(--eds-control\,#3659e3)\; box-sizing: border-box\; padding-top: 0px\;" target="_blank" title="https://abc-networking.com/">https://abc-networking.com/</a></p>\n\n<p style="margin: 0px\; padding: 10px 0px 0px\; box-sizing: border-box\; font-size: 16px\; line-height: 1.5rem\; color: rgb(111\, 114\, 135)\; font-family: &quot\;Neue Plak&quot\;\, -apple-system\, BlinkMacSystemFont\, Roboto\, &quot\;Helvetica Neue&quot\;\, Helvetica\, Tahoma\, Arial\, sans-serif\;">&nbsp\;</p>\n\n<h1 style="font-size: 32px\; margin: 0px\; padding: 0px\; box-sizing: border-box\; font-weight: 700\; letter-spacing: 0.75px\; line-height: 2.5rem\; color: rgb(57\, 54\, 79)\; font-family: &quot\;Neue Plak&quot\;\, -apple-system\, BlinkMacSystemFont\, Roboto\, &quot\;Helvetica Neue&quot\;\, Helvetica\, Tahoma\, Arial\, sans-serif\;">Event Tickets Come With</h1>\n\n<h3 style="margin: 0px\; padding: 10px 0px 0px\; box-sizing: border-box\; font-size: 17px\; line-height: 21px\; color: rgb(30\, 10\, 60)\; font-family: &quot\;Neue Plak&quot\;\, -apple-system\, BlinkMacSystemFont\, Roboto\, &quot\;Helvetica Neue&quot\;\, Helvetica\, Tahoma\, Arial\, sans-serif\;">- Free Parking</h3>\n\n<h3 style="margin: 0px\; padding: 10px 0px 0px\; box-sizing: border-box\; font-size: 17px\; line-height: 21px\; color: rgb(30\, 10\, 60)\; font-family: &quot\;Neue Plak&quot\;\, -apple-system\, BlinkMacSystemFont\, Roboto\, &quot\;Helvetica Neue&quot\;\, Helvetica\, Tahoma\, Arial\, sans-serif\;">- Appetizers</h3>\n\n<h3 style="margin: 0px\; padding: 10px 0px 0px\; box-sizing: border-box\; font-size: 17px\; line-height: 21px\; color: rgb(30\, 10\, 60)\; font-family: &quot\;Neue Plak&quot\;\, -apple-system\, BlinkMacSystemFont\, Roboto\, &quot\;Helvetica Neue&quot\;\, Helvetica\, Tahoma\, Arial\, sans-serif\;">- Raffle and Giveaway</h3>\n\n<h1 style="font-size: 32px\; margin: 0px\; padding: 0px\; box-sizing: border-box\; font-weight: 700\; letter-spacing: 0.75px\; line-height: 2.5rem\; color: rgb(57\, 54\, 79)\; font-family: &quot\;Neue Plak&quot\;\, -apple-system\, BlinkMacSystemFont\, Roboto\, &quot\;Helvetica Neue&quot\;\, Helvetica\, Tahoma\, Arial\, sans-serif\;">Buy Your Tickets Early to Save Money</h1>\n\n<h3 style="margin: 0px\; padding: 10px 0px 0px\; box-sizing: border-box\; font-size: 17px\; line-height: 21px\; color: rgb(30\, 10\, 60)\; font-family: &quot\;Neue Plak&quot\;\, -apple-system\, BlinkMacSystemFont\, Roboto\, &quot\;Helvetica Neue&quot\;\, Helvetica\, Tahoma\, Arial\, sans-serif\;">Online Ticket: $15</h3>\n\n<h3 style="margin: 0px\; padding: 10px 0px 0px\; box-sizing: border-box\; font-size: 17px\; line-height: 21px\; color: rgb(30\, 10\, 60)\; font-family: &quot\;Neue Plak&quot\;\, -apple-system\, BlinkMacSystemFont\, Roboto\, &quot\;Helvetica Neue&quot\;\, Helvetica\, Tahoma\, Arial\, sans-serif\;">At Door Ticket: $20</h3>\n\n<p style="margin: 0px\; padding: 10px 0px 0px\; box-sizing: border-box\; font-size: 16px\; line-height: 1.5rem\; color: rgb(111\, 114\, 135)\; font-family: &quot\;Neue Plak&quot\;\, -apple-system\, BlinkMacSystemFont\, Roboto\, &quot\;Helvetica Neue&quot\;\, Helvetica\, Tahoma\, Arial\, sans-serif\;">&nbsp\;</p>\n\n<p style="margin: 0px\; padding: 10px 0px 0px\; box-sizing: border-box\; font-size: 16px\; line-height: 1.5rem\; color: rgb(111\, 114\, 135)\; font-family: &quot\;Neue Plak&quot\;\, -apple-system\, BlinkMacSystemFont\, Roboto\, &quot\;Helvetica Neue&quot\;\, Helvetica\, Tahoma\, Arial\, sans-serif\;">&nbsp\;</p>\n\n<h2 style="margin: 0px\; padding: 10px 0px 0px\; box-sizing: border-box\; font-size: 17px\; font-weight: 600\; letter-spacing: 0.5px\; line-height: 21px\; color: rgb(30\, 10\, 60)\; font-family: &quot\;Neue Plak&quot\;\, -apple-system\, BlinkMacSystemFont\, Roboto\, &quot\;Helvetica Neue&quot\;\, Helvetica\, Tahoma\, Arial\, sans-serif\;">Some of the companies who have sponsored ABC Networking</h2>\n\n<p style="margin: 0px\; padding: 10px 0px 0px\; box-sizing: border-box\; font-size: 16px\; line-height: 1.5rem\; color: rgb(111\, 114\, 135)\; font-family: &quot\;Neue Plak&quot\;\, -apple-system\, BlinkMacSystemFont\, Roboto\, &quot\;Helvetica Neue&quot\;\, Helvetica\, Tahoma\, Arial\, sans-serif\;">Keller Williams Realty\, GA MLS Real Estate Services\, Mortgage Pro Loan Services\, CGS Waterproofing\, King Roof\, Servpro\, USI Insurance Company\, OnPoint Wealth\, State Farm\, Gwinnett Gladiators\, 28Black\, Altior\, O&#39\;Kelley &amp\; Sorohan\, Special Needs Respite\, Atlanta Injury Network\, Chiro4Sport\, Frazier &amp\; Deeter\, Insperity\, Cutco\, United Community Bank\, All Star Home Inspection\, Capital Restoration\, Health Insurance Solutions\, Gazel Eye Wear\, Fotica Photobooth\, Atlanta Communities Real Estate\, Keller Williams Realty\, Liberty Mutual\, Califino Tequila\, Credit Building Professionals\, Kettlerock Brewing</p>\n
LOCATION:Iron Hill Brewery & Restaurant 1224 Hammond Drive Dunwoody\, GA 30346
UID:e.569.12914
SEQUENCE:3
DTSTAMP:20260424T121050Z
URL:https://business.greaterperimeterchamber.com/events/details/atlanta-business-connections-12914
END:VEVENT

END:VCALENDAR
