BEGIN:VCALENDAR
VERSION:2.0
PRODID:-//ChamberMaster//Event Calendar 2.0//EN
METHOD:PUBLISH
X-PUBLISHED-TTL:P3D
REFRESH-INTERVAL:P3D
CALSCALE:GREGORIAN
BEGIN:VEVENT
DTSTART:20260928T200000Z
DTEND:20260928T220000Z
X-MICROSOFT-CDO-ALLDAYEVENT:FALSE
SUMMARY:$9 Martini Mondays
DESCRIPTION:Enjoy $9 specialty and classic martinis from 4-6 p.m. at the bar in Sandy Springs
X-ALT-DESC;FMTTYPE=text/html:Enjoy $9 specialty and classic martinis from 4-6 p.m. at the bar in Sandy Springs
LOCATION:6690 Roswell Road NE Ste. 410\, Sandy Springs\, GA 30328
UID:e.569.13723
SEQUENCE:3
DTSTAMP:20260419T151520Z
URL:https://business.greaterperimeterchamber.com/events/details/9-martini-mondays-09-28-2026-13723
END:VEVENT

END:VCALENDAR
